Package: EnhancedVolcano Version: 1.10.0 Command: /home/biocbuild/bbs-3.13-bioc/R/bin/R CMD INSTALL EnhancedVolcano StartedAt: 2021-10-14 06:20:18 -0400 (Thu, 14 Oct 2021) EndedAt: 2021-10-14 06:20:21 -0400 (Thu, 14 Oct 2021) EllapsedTime: 3.7 seconds RetCode: 0 Status: OK