Package: EnhancedVolcano Version: 1.10.0 Command: /home/biocbuild/bbs-3.13-bioc/R/bin/R CMD build --keep-empty-dirs --no-resave-data EnhancedVolcano StartedAt: 2021-10-14 07:11:41 -0400 (Thu, 14 Oct 2021) EndedAt: 2021-10-14 07:13:06 -0400 (Thu, 14 Oct 2021) EllapsedTime: 84.3 seconds RetCode: 0 Status: OK PackageFile: EnhancedVolcano_1.10.0.tar.gz PackageFileSize: 8.637 MiB