git_url: https://git.bioconductor.org/packages/EnMCB git_branch: RELEASE_3_13 git_last_commit: f4ab997 git_last_commit_date: 2021-09-20 07:28:03 -0400 (Mon, 20 Sep 2021) Package: EnMCB Version: 1.4.1 Maintainer: Xin Yu MaintainerEmail: whirlsyu at gmail.com