Package: EWCE Version: 1.0.1 Command: /Library/Frameworks/R.framework/Versions/Current/Resources/bin/R CMD build --keep-empty-dirs --no-resave-data EWCE StartedAt: 2021-10-14 11:59:49 -0400 (Thu, 14 Oct 2021) EndedAt: 2021-10-14 12:05:38 -0400 (Thu, 14 Oct 2021) EllapsedTime: 348.7 seconds RetCode: 0 Status: OK PackageFile: EWCE_1.0.1.tar.gz PackageFileSize: 960.9 KiB