Package: EBImage Version: 4.34.0 Command: rm -rf EBImage.buildbin-libdir && mkdir EBImage.buildbin-libdir && /Users/biocbuild/BBS/utils/build-universal.sh EBImage_4.34.0.tar.gz /Library/Frameworks/R.framework/Versions/Current/Resources/bin/R EBImage.buildbin-libdir StartedAt: 2021-10-15 02:16:39 -0400 (Fri, 15 Oct 2021) EndedAt: 2021-10-15 02:17:50 -0400 (Fri, 15 Oct 2021) EllapsedTime: 71.0 seconds RetCode: 0 Status: OK PackageFile: EBImage_4.34.0.tgz PackageFileSize: 5.544 MiB