Package: DiffLogo Version: 2.16.0 Command: chmod a+r DiffLogo -R && C:\Users\biocbuild\bbs-3.13-bioc\R\bin\R.exe CMD build --keep-empty-dirs --no-resave-data DiffLogo StartedAt: 2021-10-14 13:28:15 -0400 (Thu, 14 Oct 2021) EndedAt: 2021-10-14 13:29:08 -0400 (Thu, 14 Oct 2021) EllapsedTime: 52.6 seconds RetCode: 0 Status: OK PackageFile: DiffLogo_2.16.0.tar.gz PackageFileSize: 857.7 KiB