Package: DEFormats Version: 1.20.0 Command: /home/biocbuild/bbs-3.13-bioc/R/bin/R CMD build --keep-empty-dirs --no-resave-data DEFormats StartedAt: 2021-10-14 07:05:54 -0400 (Thu, 14 Oct 2021) EndedAt: 2021-10-14 07:06:32 -0400 (Thu, 14 Oct 2021) EllapsedTime: 38.5 seconds RetCode: 0 Status: OK PackageFile: DEFormats_1.20.0.tar.gz PackageFileSize: 226.2 KiB