Package: ChIPseqR Version: 1.46.0 Command: C:\cygwin\bin\curl.exe -O http://155.52.207.165/BBS/3.13/bioc/src/contrib/ChIPseqR_1.46.0.tar.gz && rm -rf ChIPseqR.buildbin-libdir && mkdir ChIPseqR.buildbin-libdir && C:\Users\biocbuild\bbs-3.13-bioc\R\bin\R.exe CMD INSTALL --merge-multiarch --build --library=ChIPseqR.buildbin-libdir ChIPseqR_1.46.0.tar.gz && C:\Users\biocbuild\bbs-3.13-bioc\R\bin\R.exe CMD INSTALL ChIPseqR_1.46.0.zip && rm ChIPseqR_1.46.0.tar.gz ChIPseqR_1.46.0.zip StartedAt: 2021-10-14 08:49:14 -0400 (Thu, 14 Oct 2021) EndedAt: 2021-10-14 08:50:36 -0400 (Thu, 14 Oct 2021) EllapsedTime: 81.6 seconds RetCode: 0 Status: OK