Package: ChIPseqR Version: 1.46.0 Command: chmod a+r ChIPseqR -R && C:\Users\biocbuild\bbs-3.13-bioc\R\bin\R.exe CMD build --keep-empty-dirs --no-resave-data ChIPseqR StartedAt: 2021-10-14 12:45:24 -0400 (Thu, 14 Oct 2021) EndedAt: 2021-10-14 12:47:22 -0400 (Thu, 14 Oct 2021) EllapsedTime: 118.1 seconds RetCode: 0 Status: OK PackageFile: ChIPseqR_1.46.0.tar.gz PackageFileSize: 614.3 KiB