Package: ChIPSeqSpike Version: 1.12.0 Command: /home/biocbuild/bbs-3.13-bioc/R/bin/R CMD INSTALL ChIPSeqSpike StartedAt: 2021-10-14 06:27:04 -0400 (Thu, 14 Oct 2021) EndedAt: 2021-10-14 06:27:49 -0400 (Thu, 14 Oct 2021) EllapsedTime: 45.5 seconds RetCode: 0 Status: OK