Package: CATALYST Version: 1.16.2 Command: chmod a+r CATALYST -R && C:\Users\biocbuild\bbs-3.13-bioc\R\bin\R.exe CMD build --keep-empty-dirs --no-resave-data CATALYST StartedAt: 2021-10-14 12:31:51 -0400 (Thu, 14 Oct 2021) EndedAt: 2021-10-14 12:36:41 -0400 (Thu, 14 Oct 2021) EllapsedTime: 290.1 seconds RetCode: 0 Status: OK PackageFile: CATALYST_1.16.2.tar.gz PackageFileSize: 6.462 MiB