Package: CATALYST Version: 1.16.2 Command: /home/biocbuild/bbs-3.13-bioc/R/bin/R CMD INSTALL CATALYST StartedAt: 2021-10-14 06:37:49 -0400 (Thu, 14 Oct 2021) EndedAt: 2021-10-14 06:38:16 -0400 (Thu, 14 Oct 2021) EllapsedTime: 26.8 seconds RetCode: 0 Status: OK