Package: BiocSet Version: 1.6.1 Command: chmod a+r BiocSet -R && C:\Users\biocbuild\bbs-3.13-bioc\R\bin\R.exe CMD build --keep-empty-dirs --no-resave-data BiocSet StartedAt: 2021-10-14 12:03:55 -0400 (Thu, 14 Oct 2021) EndedAt: 2021-10-14 12:07:04 -0400 (Thu, 14 Oct 2021) EllapsedTime: 188.4 seconds RetCode: 0 Status: OK PackageFile: BiocSet_1.6.1.tar.gz PackageFileSize: 344.7 KiB