Package: BiocSet Version: 1.6.1 Command: /home/biocbuild/bbs-3.13-bioc/R/bin/R CMD INSTALL BiocSet StartedAt: 2021-10-14 06:17:45 -0400 (Thu, 14 Oct 2021) EndedAt: 2021-10-14 06:18:00 -0400 (Thu, 14 Oct 2021) EllapsedTime: 14.6 seconds RetCode: 0 Status: OK