Package: BiocNeighbors Version: 1.10.0 Command: rm -rf BiocNeighbors.buildbin-libdir && mkdir BiocNeighbors.buildbin-libdir && /Users/biocbuild/BBS/utils/build-universal.sh BiocNeighbors_1.10.0.tar.gz /Library/Frameworks/R.framework/Versions/Current/Resources/bin/R BiocNeighbors.buildbin-libdir StartedAt: 2021-10-15 01:43:35 -0400 (Fri, 15 Oct 2021) EndedAt: 2021-10-15 01:45:57 -0400 (Fri, 15 Oct 2021) EllapsedTime: 141.8 seconds RetCode: 0 Status: OK PackageFile: BiocNeighbors_1.10.0.tgz PackageFileSize: 1.398 MiB