Package: BioCor Version: 1.16.0 Command: chmod a+r BioCor -R && C:\Users\biocbuild\bbs-3.13-bioc\R\bin\R.exe CMD build --keep-empty-dirs --no-resave-data BioCor StartedAt: 2021-10-14 12:03:30 -0400 (Thu, 14 Oct 2021) EndedAt: 2021-10-14 12:06:51 -0400 (Thu, 14 Oct 2021) EllapsedTime: 201.3 seconds RetCode: 0 Status: OK PackageFile: BioCor_1.16.0.tar.gz PackageFileSize: 941.7 KiB