Package: AgiMicroRna Version: 2.42.0 Command: rm -rf AgiMicroRna.buildbin-libdir && mkdir AgiMicroRna.buildbin-libdir && /Users/biocbuild/BBS/utils/build-universal.sh AgiMicroRna_2.42.0.tar.gz /Library/Frameworks/R.framework/Versions/Current/Resources/bin/R AgiMicroRna.buildbin-libdir StartedAt: 2021-10-15 01:32:40 -0400 (Fri, 15 Oct 2021) EndedAt: 2021-10-15 01:33:53 -0400 (Fri, 15 Oct 2021) EllapsedTime: 72.6 seconds RetCode: 0 Status: OK PackageFile: AgiMicroRna_2.42.0.tgz PackageFileSize: 3.453 MiB