| Back to Build/check report for BioC 3.12 experimental data | 
 | 
This page was generated on 2021-05-06 14:10:05 -0400 (Thu, 06 May 2021).
| Package 385/398 | Hostname | OS / Arch | INSTALL | BUILD | CHECK | ||||||||
| VariantToolsData 1.14.0  (landing page) Michael Lawrence 
 | malbec1 | Linux (Ubuntu 18.04.5 LTS) / x86_64 | OK | OK | WARNINGS |  | |||||||