| Back to Long Tests report for BioC 3.12 |
This page was generated on 2021-05-08 14:20:33 -0400 (Sat, 08 May 2021).
| QUICK STATS | OS / Arch | CHECK | |||||||
| malbec1 | Linux (Ubuntu 18.04.5 LTS) / x86_64 |
| |||||||
| tokay1 | Windows Server 2012 R2 Standard / x64 |
| |||||||
| merida1 | macOS 10.14.6 Mojave / x86_64 |
| |||||||
| Package | Maintainer | CHECK | |||||||
| 1/10 | APAlyzer 1.4.0 (landing page) | Ruijia Wang | OK | ||||||
| 2/10 | beachmat 2.6.4 (landing page) | Aaron Lun | ERROR | ||||||
| 3/10 | cBioPortalData 2.2.11 (landing page) | Marcel Ramos | WARNINGS | ||||||
| 4/10 | ChromSCape 1.0.0 (landing page) | Pacome Prompsy | ERROR | ||||||
| 5/10 | DelayedMatrixStats 1.12.3 (landing page) | Peter Hickey | OK | ||||||
| 6/10 | DropletUtils 1.10.3 (landing page) | Aaron Lun | ERROR | ||||||
| 7/10 | GenomicFeatures 1.42.3 (landing page) | Bioconductor Package Maintainer | WARNINGS | ||||||
| 8/10 | HDF5Array 1.18.1 (landing page) | Hervé Pagès | ERROR | ||||||
| 9/10 | rhdf5 2.34.0 (landing page) | Mike Smith | ERROR | ||||||
| 10/10 | xcms 3.12.0 (landing page) | Steffen Neumann | OK | ||||||