More about merida1
| Hostname: | merida1 |
| OS: | macOS 10.14.6 Mojave |
| Arch: | x86_64 |
| Platform: | x86_64-apple-darwin18.7.0 |
| R version: | 4.0.5 (2021-03-31) -- "Shake and Throw"
|
| R environment variables: | Renviron.bioc |
C compiler
| R variable (VAR) | Value ('R CMD config <VAR>' output) |
| CC | clang -mmacosx-version-min=10.13 |
| CFLAGS | -Wall -g -O2 |
| CPICFLAGS | -fPIC |
| Please refer to 'R CMD config -h' for the meaning of these variables |
Compiler version ('clang -mmacosx-version-min=10.13 --version' output):
Apple clang version 11.0.0 (clang-1100.0.33.17)
Target: x86_64-apple-darwin18.7.0
Thread model: posix
InstalledDir: /Library/Developer/CommandLineTools/usr/bin
C++ compiler
| R variable (VAR) | Value ('R CMD config <VAR>' output) |
| CXX | clang++ -mmacosx-version-min=10.13 -std=gnu++11 |
| CXXFLAGS | -Wall -g -O2 |
| CXXPICFLAGS | -fPIC |
| Please refer to 'R CMD config -h' for the meaning of these variables |
Compiler version ('clang++ -mmacosx-version-min=10.13 -std=gnu++11 --version' output):
Apple clang version 11.0.0 (clang-1100.0.33.17)
Target: x86_64-apple-darwin18.7.0
Thread model: posix
InstalledDir: /Library/Developer/CommandLineTools/usr/bin
C++11 compiler
| R variable (VAR) | Value ('R CMD config <VAR>' output) |
| CXX11 | clang++ -mmacosx-version-min=10.13 |
| CXX11FLAGS | -Wall -g -O2 |
| CXX11PICFLAGS | -fPIC |
| CXX11STD | -std=gnu++11 |
| Please refer to 'R CMD config -h' for the meaning of these variables |
Compiler version ('clang++ -mmacosx-version-min=10.13 --version' output):
Apple clang version 11.0.0 (clang-1100.0.33.17)
Target: x86_64-apple-darwin18.7.0
Thread model: posix
InstalledDir: /Library/Developer/CommandLineTools/usr/bin
C++14 compiler
| R variable (VAR) | Value ('R CMD config <VAR>' output) |
| CXX14 | clang++ -mmacosx-version-min=10.13 |
| CXX14FLAGS | -Wall -g -O2 |
| CXX14PICFLAGS | -fPIC |
| CXX14STD | -std=gnu++14 |
| Please refer to 'R CMD config -h' for the meaning of these variables |
Compiler version ('clang++ -mmacosx-version-min=10.13 --version' output):
Apple clang version 11.0.0 (clang-1100.0.33.17)
Target: x86_64-apple-darwin18.7.0
Thread model: posix
InstalledDir: /Library/Developer/CommandLineTools/usr/bin
C++17 compiler
| R variable (VAR) | Value ('R CMD config <VAR>' output) |
| CXX17 | clang++ -mmacosx-version-min=10.13 |
| CXX17FLAGS | -Wall -g -O2 |
| CXX17PICFLAGS | -fPIC |
| CXX17STD | -std=gnu++17 |
| Please refer to 'R CMD config -h' for the meaning of these variables |
Compiler version ('clang++ -mmacosx-version-min=10.13 --version' output):
Apple clang version 11.0.0 (clang-1100.0.33.17)
Target: x86_64-apple-darwin18.7.0
Thread model: posix
InstalledDir: /Library/Developer/CommandLineTools/usr/bin
More information might be added in the future...