| Back to Long Tests report for BioC 3.12 |
This page was generated on 2021-05-08 14:20:33 -0400 (Sat, 08 May 2021).
|
To the developers/maintainers of the ChromSCape package: Please make sure to use the following settings in order to reproduce any error or warning you see on this page. |
| Package 4/10 | Hostname | OS / Arch | CHECK | |||||||
| ChromSCape 1.0.0 (landing page) Pacome Prompsy
| malbec1 | Linux (Ubuntu 18.04.5 LTS) / x86_64 | ERROR | |||||||
| tokay1 | Windows Server 2012 R2 Standard / x64 | ERROR | ||||||||
| merida1 | macOS 10.14.6 Mojave / x86_64 | ERROR | ||||||||
| Package: ChromSCape |
| Version: 1.0.0 |
| Command: chmod a+r ChromSCape -R && C:\Users\biocbuild\bbs-3.12-bioc\R\bin\R.exe CMD build --keep-empty-dirs --no-resave-data --no-build-vignettes --no-manual ChromSCape |
| StartedAt: 2021-05-08 09:32:47 -0400 (Sat, 08 May 2021) |
| EndedAt: 2021-05-08 09:32:52 -0400 (Sat, 08 May 2021) |
| EllapsedTime: 5.4 seconds |
| RetCode: 0 |
| Status: OK |
| PackageFile: ChromSCape_1.0.0.tar.gz |
| PackageFileSize: 2.677 MiB |
############################################################################## ############################################################################## ### ### Running command: ### ### chmod a+r ChromSCape -R && C:\Users\biocbuild\bbs-3.12-bioc\R\bin\R.exe CMD build --keep-empty-dirs --no-resave-data --no-build-vignettes --no-manual ChromSCape ### ############################################################################## ############################################################################## * checking for file 'ChromSCape/DESCRIPTION' ... OK * preparing 'ChromSCape': * checking DESCRIPTION meta-information ... OK * checking for LF line-endings in source and make files and shell scripts * checking for empty or unneeded directories * building 'ChromSCape_1.0.0.tar.gz'