| Back to Multiple platform build/check report for BioC 3.12 |
|
This page was generated on 2021-05-06 12:34:11 -0400 (Thu, 06 May 2021).
|
To the developers/maintainers of the webbioc package: Please make sure to use the following settings in order to reproduce any error or warning you see on this page. |
| Package 1952/1974 | Hostname | OS / Arch | INSTALL | BUILD | CHECK | BUILD BIN | ||||||||
| webbioc 1.62.0 (landing page) Colin A. Smith
| malbec1 | Linux (Ubuntu 18.04.5 LTS) / x86_64 | OK | OK | WARNINGS | |||||||||
| tokay1 | Windows Server 2012 R2 Standard / x64 | OK | OK | WARNINGS | OK | |||||||||
| merida1 | macOS 10.14.6 Mojave / x86_64 | OK | OK | WARNINGS | OK | |||||||||
| Package: webbioc |
| Version: 1.62.0 |
| Command: rm -rf webbioc.buildbin-libdir && mkdir webbioc.buildbin-libdir && C:\Users\biocbuild\bbs-3.12-bioc\R\bin\R.exe CMD INSTALL --merge-multiarch --build --library=webbioc.buildbin-libdir webbioc_1.62.0.tar.gz |
| StartedAt: 2021-05-06 10:21:25 -0400 (Thu, 06 May 2021) |
| EndedAt: 2021-05-06 10:22:11 -0400 (Thu, 06 May 2021) |
| EllapsedTime: 46.7 seconds |
| RetCode: 0 |
| Status: OK |
| PackageFile: webbioc_1.62.0.zip |
| PackageFileSize: 211.1 KiB |
##############################################################################
##############################################################################
###
### Running command:
###
### rm -rf webbioc.buildbin-libdir && mkdir webbioc.buildbin-libdir && C:\Users\biocbuild\bbs-3.12-bioc\R\bin\R.exe CMD INSTALL --merge-multiarch --build --library=webbioc.buildbin-libdir webbioc_1.62.0.tar.gz
###
##############################################################################
##############################################################################
install for i386
* installing *source* package 'webbioc' ...
** using staged installation
** R
** inst
** byte-compile and prepare package for lazy loading
Warning message:
Package 'KEGG.db' is deprecated and will be removed from Bioconductor
version 3.12
** help
*** installing help indices
converting help for package 'webbioc'
finding HTML links ... done
installReps html
mt.wrapper html
** building package indices
** installing vignettes
** testing if installed package can be loaded from temporary location
Warning: Package 'KEGG.db' is deprecated and will be removed from Bioconductor
version 3.12
** testing if installed package can be loaded from final location
Warning: Package 'KEGG.db' is deprecated and will be removed from Bioconductor
version 3.12
** testing if installed package keeps a record of temporary installation path
install for x64
* installing *source* package 'webbioc' ...
** testing if installed package can be loaded
Warning: Package 'KEGG.db' is deprecated and will be removed from Bioconductor
version 3.12
* MD5 sums
packaged installation of 'webbioc' as webbioc_1.62.0.zip
* DONE (webbioc)