| Back to Multiple platform build/check report for BioC 3.12 | 
 | 
This page was generated on 2021-05-06 12:33:31 -0400 (Thu, 06 May 2021).
| To the developers/maintainers of the scran package: Please make sure to use the following settings in order to reproduce any error or warning you see on this page. | 
| Package 1657/1974 | Hostname | OS / Arch | INSTALL | BUILD | CHECK | BUILD BIN | ||||||||
| scran 1.18.7  (landing page) Aaron Lun 
 | malbec1 | Linux (Ubuntu 18.04.5 LTS) / x86_64 | OK | OK | WARNINGS |  | ||||||||
| tokay1 | Windows Server 2012 R2 Standard / x64 | OK | OK | WARNINGS | OK |  | ||||||||
| merida1 | macOS 10.14.6 Mojave / x86_64 | OK | OK | WARNINGS | OK |  | ||||||||
| Package: scran | 
| Version: 1.18.7 | 
| Command: chmod a+r scran -R && C:\Users\biocbuild\bbs-3.12-bioc\R\bin\R.exe CMD build --keep-empty-dirs --no-resave-data scran | 
| StartedAt: 2021-05-05 23:25:16 -0400 (Wed, 05 May 2021) | 
| EndedAt: 2021-05-05 23:30:43 -0400 (Wed, 05 May 2021) | 
| EllapsedTime: 326.9 seconds | 
| RetCode: 0 | 
| Status: OK | 
| PackageFile: scran_1.18.7.tar.gz | 
| PackageFileSize: 1.022 MiB | 
############################################################################## ############################################################################## ### ### Running command: ### ### chmod a+r scran -R && C:\Users\biocbuild\bbs-3.12-bioc\R\bin\R.exe CMD build --keep-empty-dirs --no-resave-data scran ### ############################################################################## ############################################################################## * checking for file 'scran/DESCRIPTION' ... OK * preparing 'scran': * checking DESCRIPTION meta-information ... OK * cleaning src * installing the package to build vignettes * creating vignettes ... OK * cleaning src * checking for LF line-endings in source and make files and shell scripts * checking for empty or unneeded directories * building 'scran_1.18.7.tar.gz'