| Back to Multiple platform build/check report for BioC 3.12 |
|
This page was generated on 2021-05-06 12:32:59 -0400 (Thu, 06 May 2021).
|
To the developers/maintainers of the qPLEXanalyzer package: Please make sure to use the following settings in order to reproduce any error or warning you see on this page. |
| Package 1427/1974 | Hostname | OS / Arch | INSTALL | BUILD | CHECK | BUILD BIN | ||||||||
| qPLEXanalyzer 1.8.2 (landing page) Ashley Sawle
| malbec1 | Linux (Ubuntu 18.04.5 LTS) / x86_64 | OK | OK | OK | |||||||||
| tokay1 | Windows Server 2012 R2 Standard / x64 | OK | OK | OK | OK | |||||||||
| merida1 | macOS 10.14.6 Mojave / x86_64 | OK | OK | OK | OK | |||||||||
| Package: qPLEXanalyzer |
| Version: 1.8.2 |
| Command: rm -rf qPLEXanalyzer.buildbin-libdir && mkdir qPLEXanalyzer.buildbin-libdir && C:\Users\biocbuild\bbs-3.12-bioc\R\bin\R.exe CMD INSTALL --merge-multiarch --build --library=qPLEXanalyzer.buildbin-libdir qPLEXanalyzer_1.8.2.tar.gz |
| StartedAt: 2021-05-06 09:50:43 -0400 (Thu, 06 May 2021) |
| EndedAt: 2021-05-06 09:51:18 -0400 (Thu, 06 May 2021) |
| EllapsedTime: 35.7 seconds |
| RetCode: 0 |
| Status: OK |
| PackageFile: qPLEXanalyzer_1.8.2.zip |
| PackageFileSize: 2.442 MiB |
##############################################################################
##############################################################################
###
### Running command:
###
### rm -rf qPLEXanalyzer.buildbin-libdir && mkdir qPLEXanalyzer.buildbin-libdir && C:\Users\biocbuild\bbs-3.12-bioc\R\bin\R.exe CMD INSTALL --merge-multiarch --build --library=qPLEXanalyzer.buildbin-libdir qPLEXanalyzer_1.8.2.tar.gz
###
##############################################################################
##############################################################################
install for i386
* installing *source* package 'qPLEXanalyzer' ...
** using staged installation
** R
** data
** inst
** byte-compile and prepare package for lazy loading
Note: wrong number of arguments to '=='
Note: wrong number of arguments to '=='
** help
*** installing help indices
converting help for package 'qPLEXanalyzer'
finding HTML links ... done
assignColours html
computeDiffStats html
finding level-2 HTML links ... done
convertToMSnset html
corrPlot html
coveragePlot html
exp2_Xlink html
exp3_OHT_ESR1 html
getContrastResults html
groupScaling html
hierarchicalPlot html
human_anno html
intensityBoxplot html
intensityPlot html
maVolPlot html
mergePeptides html
normalizeQuantiles html
normalizeScaling html
pcaPlot html
peptideIntensityPlot html
plotMeanVar html
qPLEXanalyzer-package html
regressIntensity html
rliPlot html
rowScaling html
summarizeIntensities html
** building package indices
** installing vignettes
** testing if installed package can be loaded from temporary location
** testing if installed package can be loaded from final location
** testing if installed package keeps a record of temporary installation path
install for x64
* installing *source* package 'qPLEXanalyzer' ...
** testing if installed package can be loaded
* MD5 sums
packaged installation of 'qPLEXanalyzer' as qPLEXanalyzer_1.8.2.zip
* DONE (qPLEXanalyzer)