| Back to Multiple platform build/check report for BioC 3.12 |
|
This page was generated on 2021-05-06 12:30:04 -0400 (Thu, 06 May 2021).
|
To the developers/maintainers of the blacksheepr package: Please make sure to use the following settings in order to reproduce any error or warning you see on this page. |
| Package 195/1974 | Hostname | OS / Arch | INSTALL | BUILD | CHECK | BUILD BIN | ||||||||
| blacksheepr 1.4.0 (landing page) RugglesLab
| malbec1 | Linux (Ubuntu 18.04.5 LTS) / x86_64 | OK | OK | OK | |||||||||
| tokay1 | Windows Server 2012 R2 Standard / x64 | OK | OK | OK | OK | |||||||||
| merida1 | macOS 10.14.6 Mojave / x86_64 | OK | OK | OK | OK | |||||||||
| Package: blacksheepr |
| Version: 1.4.0 |
| Command: rm -rf blacksheepr.buildbin-libdir && mkdir blacksheepr.buildbin-libdir && C:\Users\biocbuild\bbs-3.12-bioc\R\bin\R.exe CMD INSTALL --merge-multiarch --build --library=blacksheepr.buildbin-libdir blacksheepr_1.4.0.tar.gz |
| StartedAt: 2021-05-06 08:34:54 -0400 (Thu, 06 May 2021) |
| EndedAt: 2021-05-06 08:35:25 -0400 (Thu, 06 May 2021) |
| EllapsedTime: 31.7 seconds |
| RetCode: 0 |
| Status: OK |
| PackageFile: blacksheepr_1.4.0.zip |
| PackageFileSize: 4.05 MiB |
##############################################################################
##############################################################################
###
### Running command:
###
### rm -rf blacksheepr.buildbin-libdir && mkdir blacksheepr.buildbin-libdir && C:\Users\biocbuild\bbs-3.12-bioc\R\bin\R.exe CMD INSTALL --merge-multiarch --build --library=blacksheepr.buildbin-libdir blacksheepr_1.4.0.tar.gz
###
##############################################################################
##############################################################################
install for i386
* installing *source* package 'blacksheepr' ...
** using staged installation
** R
** data
** inst
** byte-compile and prepare package for lazy loading
** help
*** installing help indices
converting help for package 'blacksheepr'
finding HTML links ... done
annotationlist_builder html
comparison_groupings html
count_outliers html
create_heatmap html
deva html
deva_normalization html
deva_results html
make_comparison_columns html
make_outlier_table html
outlier_analysis html
outlier_heatmap html
sample_annotationdata html
sample_phosphodata html
sample_rnadata html
** building package indices
** installing vignettes
** testing if installed package can be loaded from temporary location
** testing if installed package can be loaded from final location
** testing if installed package keeps a record of temporary installation path
install for x64
* installing *source* package 'blacksheepr' ...
** testing if installed package can be loaded
* MD5 sums
packaged installation of 'blacksheepr' as blacksheepr_1.4.0.zip
* DONE (blacksheepr)