| Back to Multiple platform build/check report for BioC 3.12 |
|
This page was generated on 2021-05-06 12:27:43 -0400 (Thu, 06 May 2021).
|
To the developers/maintainers of the GENIE3 package: Please make sure to use the following settings in order to reproduce any error or warning you see on this page. |
| Package 707/1974 | Hostname | OS / Arch | INSTALL | BUILD | CHECK | BUILD BIN | ||||||||
| GENIE3 1.12.0 (landing page) Van Anh Huynh-Thu
| malbec1 | Linux (Ubuntu 18.04.5 LTS) / x86_64 | OK | OK | OK | |||||||||
| tokay1 | Windows Server 2012 R2 Standard / x64 | OK | OK | OK | OK | |||||||||
| merida1 | macOS 10.14.6 Mojave / x86_64 | OK | OK | OK | OK | |||||||||
| Package: GENIE3 |
| Version: 1.12.0 |
| Command: /home/biocbuild/bbs-3.12-bioc/R/bin/R CMD INSTALL GENIE3 |
| StartedAt: 2021-05-05 16:13:30 -0400 (Wed, 05 May 2021) |
| EndedAt: 2021-05-05 16:13:33 -0400 (Wed, 05 May 2021) |
| EllapsedTime: 2.5 seconds |
| RetCode: 0 |
| Status: OK |
##############################################################################
##############################################################################
###
### Running command:
###
### /home/biocbuild/bbs-3.12-bioc/R/bin/R CMD INSTALL GENIE3
###
##############################################################################
##############################################################################
* installing to library ‘/home/biocbuild/bbs-3.12-bioc/R/library’
* installing *source* package ‘GENIE3’ ...
** using staged installation
** libs
gcc -I"/home/biocbuild/bbs-3.12-bioc/R/include" -DNDEBUG -I/usr/local/include -fpic -g -O2 -Wall -c GENIE3.c -o GENIE3.o
GENIE3.c: In function ‘find_the_best_threshold_multiregr’:
GENIE3.c:1368:24: warning: ‘best_threshold’ may be used uninitialized in this function [-Wmaybe-uninitialized]
current_threshold.f=best_threshold;
~~~~~~~~~~~~~~~~~~~^~~~~~~~~~~~~~~
GENIE3.c:1370:27: warning: ‘best_info’ may be used uninitialized in this function [-Wmaybe-uninitialized]
current_threshold_info=best_info;
~~~~~~~~~~~~~~~~~~~~~~^~~~~~~~~~
GENIE3.c: In function ‘build_one_tree_ensemble’:
GENIE3.c:1052:7: warning: ‘fp’ may be used uninitialized in this function [-Wmaybe-uninitialized]
write_one_tree(current_tree, fp);
^~~~~~~~~~~~~~~~~~~~~~~~~~~~~~~~
GENIE3.c: In function ‘find_the_best_threshold_symb_multiregr’:
GENIE3.c:1466:27: warning: ‘best_info’ may be used uninitialized in this function [-Wmaybe-uninitialized]
current_threshold_info=best_info;
~~~~~~~~~~~~~~~~~~~~~~^~~~~~~~~~
GENIE3.c: In function ‘compute_ltrees_variable_importance_multiregr_separate’:
GENIE3.c:1762:10: warning: ‘flag_continue’ may be used uninitialized in this function [-Wmaybe-uninitialized]
return flag_continue;
^~~~~~~~~~~~~
gcc -shared -L/home/biocbuild/bbs-3.12-bioc/R/lib -L/usr/local/lib -o GENIE3.so GENIE3.o -L/home/biocbuild/bbs-3.12-bioc/R/lib -lR
installing to /home/biocbuild/bbs-3.12-bioc/R/library/00LOCK-GENIE3/00new/GENIE3/libs
** R
** inst
** byte-compile and prepare package for lazy loading
in method for ‘GENIE3’ with signature ‘"SummarizedExperiment"’: no definition for class “SummarizedExperiment”
in method for ‘GENIE3’ with signature ‘"ExpressionSet"’: no definition for class “ExpressionSet”
** help
*** installing help indices
** building package indices
** installing vignettes
** testing if installed package can be loaded from temporary location
** checking absolute paths in shared objects and dynamic libraries
** testing if installed package can be loaded from final location
** testing if installed package keeps a record of temporary installation path
* DONE (GENIE3)