| Back to Long Tests report for BioC 3.10 | 
This page was generated on 2020-04-11 19:30:02 -0400 (Sat, 11 Apr 2020).
| Package 4/4 | Hostname | OS / Arch | CHECK | |||||
| HDF5Array 1.14.3 Hervé Pagès 
  | malbec1 | Linux (Ubuntu 18.04.4 LTS) / x86_64 | ERROR | 
| Package: HDF5Array | 
| Version: 1.14.3 | 
| Command: /home/biocbuild/bbs-3.10-bioc/R/bin/R CMD build --keep-empty-dirs --no-resave-data --no-build-vignettes --no-manual HDF5Array | 
| StartedAt: 2020-04-11 11:00:05 -0400 (Sat, 11 Apr 2020) | 
| EndedAt: 2020-04-11 11:00:07 -0400 (Sat, 11 Apr 2020) | 
| EllapsedTime: 1.6 seconds | 
| RetCode: 0 | 
| Status: OK | 
| PackageFile: HDF5Array_1.14.3.tar.gz | 
| PackageFileSize: 7.678 MiB | 
############################################################################## ############################################################################## ### ### Running command: ### ### /home/biocbuild/bbs-3.10-bioc/R/bin/R CMD build --keep-empty-dirs --no-resave-data --no-build-vignettes --no-manual HDF5Array ### ############################################################################## ############################################################################## * checking for file ‘HDF5Array/DESCRIPTION’ ... OK * preparing ‘HDF5Array’: * checking DESCRIPTION meta-information ... OK * cleaning src * checking for LF line-endings in source and make files and shell scripts * checking for empty or unneeded directories * building ‘HDF5Array_1.14.3.tar.gz’