| Back to Multiple platform build/check report for BioC 3.10 |
|
This page was generated on 2020-04-15 12:13:56 -0400 (Wed, 15 Apr 2020).
| Package 1249/1823 | Hostname | OS / Arch | INSTALL | BUILD | CHECK | BUILD BIN | ||||||
| perturbatr 1.6.0 Simon Dirmeier
| malbec1 | Linux (Ubuntu 18.04.4 LTS) / x86_64 | OK | OK | [ OK ] | |||||||
| tokay1 | Windows Server 2012 R2 Standard / x64 | OK | OK | OK | OK | |||||||
| merida1 | OS X 10.11.6 El Capitan / x86_64 | OK | OK | OK | OK |
| Package: perturbatr |
| Version: 1.6.0 |
| Command: /home/biocbuild/bbs-3.10-bioc/R/bin/R CMD check --install=check:perturbatr.install-out.txt --library=/home/biocbuild/bbs-3.10-bioc/R/library --no-vignettes --timings perturbatr_1.6.0.tar.gz |
| StartedAt: 2020-04-15 05:34:36 -0400 (Wed, 15 Apr 2020) |
| EndedAt: 2020-04-15 05:40:37 -0400 (Wed, 15 Apr 2020) |
| EllapsedTime: 361.1 seconds |
| RetCode: 0 |
| Status: OK |
| CheckDir: perturbatr.Rcheck |
| Warnings: 0 |
##############################################################################
##############################################################################
###
### Running command:
###
### /home/biocbuild/bbs-3.10-bioc/R/bin/R CMD check --install=check:perturbatr.install-out.txt --library=/home/biocbuild/bbs-3.10-bioc/R/library --no-vignettes --timings perturbatr_1.6.0.tar.gz
###
##############################################################################
##############################################################################
* using log directory ‘/home/biocbuild/bbs-3.10-bioc/meat/perturbatr.Rcheck’
* using R version 3.6.3 (2020-02-29)
* using platform: x86_64-pc-linux-gnu (64-bit)
* using session charset: UTF-8
* using option ‘--no-vignettes’
* checking for file ‘perturbatr/DESCRIPTION’ ... OK
* checking extension type ... Package
* this is package ‘perturbatr’ version ‘1.6.0’
* checking package namespace information ... OK
* checking package dependencies ... OK
* checking if this is a source package ... OK
* checking if there is a namespace ... OK
* checking for hidden files and directories ... OK
* checking for portable file names ... OK
* checking for sufficient/correct file permissions ... OK
* checking whether package ‘perturbatr’ can be installed ... OK
* checking installed package size ... OK
* checking package directory ... OK
* checking ‘build’ directory ... OK
* checking DESCRIPTION meta-information ... OK
* checking top-level files ... OK
* checking for left-over files ... OK
* checking index information ... OK
* checking package subdirectories ... OK
* checking R files for non-ASCII characters ... OK
* checking R files for syntax errors ... OK
* checking whether the package can be loaded ... OK
* checking whether the package can be loaded with stated dependencies ... OK
* checking whether the package can be unloaded cleanly ... OK
* checking whether the namespace can be loaded with stated dependencies ... OK
* checking whether the namespace can be unloaded cleanly ... OK
* checking dependencies in R code ... OK
* checking S3 generic/method consistency ... OK
* checking replacement functions ... OK
* checking foreign function calls ... OK
* checking R code for possible problems ... OK
* checking Rd files ... OK
* checking Rd metadata ... OK
* checking Rd cross-references ... OK
* checking for missing documentation entries ... OK
* checking for code/documentation mismatches ... OK
* checking Rd \usage sections ... OK
* checking Rd contents ... OK
* checking for unstated dependencies in examples ... OK
* checking contents of ‘data’ directory ... OK
* checking data for non-ASCII characters ... OK
* checking data for ASCII and uncompressed saves ... OK
* checking files in ‘vignettes’ ... OK
* checking examples ... OK
Examples with CPU or elapsed time > 5s
user system elapsed
bootstrap 79.680 0.068 79.900
HMAnalysedPerturbationData-class 6.728 0.112 6.852
NetworkAnalysedPerturbationData-class 6.200 0.036 6.341
params-methods 5.780 0.036 5.820
rnaiscreen 5.672 0.044 5.719
inference-methods 5.540 0.032 5.575
geneEffects-methods 5.480 0.044 5.534
diffuse-methods 5.436 0.020 5.458
hm-methods 5.320 0.036 5.366
graph-methods 5.268 0.024 5.312
isBootstrapped-methods 5.040 0.036 5.084
* checking for unstated dependencies in ‘tests’ ... OK
* checking tests ...
Running ‘testthat.R’
OK
* checking for unstated dependencies in vignettes ... OK
* checking package vignettes in ‘inst/doc’ ... OK
* checking running R code from vignettes ... SKIPPED
* checking re-building of vignette outputs ... SKIPPED
* checking PDF version of manual ... OK
* DONE
Status: OK
perturbatr.Rcheck/00install.out
############################################################################## ############################################################################## ### ### Running command: ### ### /home/biocbuild/bbs-3.10-bioc/R/bin/R CMD INSTALL perturbatr ### ############################################################################## ############################################################################## * installing to library ‘/home/biocbuild/bbs-3.10-bioc/R/library’ * installing *source* package ‘perturbatr’ ... ** using staged installation ** R ** data *** moving datasets to lazyload DB ** inst ** byte-compile and prepare package for lazy loading ** help *** installing help indices ** building package indices ** installing vignettes ** testing if installed package can be loaded from temporary location ** testing if installed package can be loaded from final location ** testing if installed package keeps a record of temporary installation path * DONE (perturbatr)
perturbatr.Rcheck/tests/testthat.Rout
R version 3.6.3 (2020-02-29) -- "Holding the Windsock"
Copyright (C) 2020 The R Foundation for Statistical Computing
Platform: x86_64-pc-linux-gnu (64-bit)
R is free software and comes with ABSOLUTELY NO WARRANTY.
You are welcome to redistribute it under certain conditions.
Type 'license()' or 'licence()' for distribution details.
R is a collaborative project with many contributors.
Type 'contributors()' for more information and
'citation()' on how to cite R or R packages in publications.
Type 'demo()' for some demos, 'help()' for on-line help, or
'help.start()' for an HTML browser interface to help.
Type 'q()' to quit R.
> # perturbatr: analysis of high-throughput gene perturbation screens
> #
> # Copyright (C) 2018 Simon Dirmeier
> #
> # This file is part of perturbatr
> #
> # perturbatr is free software: you can redistribute it and/or modify
> # it under the terms of the GNU General Public License as published by
> # the Free Software Foundation, either version 3 of the License, or
> # (at your option) any later version.
> #
> # perturbatr is distributed in the hope that it will be useful,
> # but WITHOUT ANY WARRANTY; without even the implied warranty of
> # MERCHANTABILITY or FITNESS FOR A PARTICULAR PURPOSE. See the
> # GNU General Public License for more details.
> #
> # You should have received a copy of the GNU General Public License
> # along with perturbatr If not, see <http://www.gnu.org/licenses/>.
>
>
> library(testthat)
> library(perturbatr)
Attaching package: 'perturbatr'
The following object is masked from 'package:stats':
filter
>
> test_check("perturbatr")
══ testthat results ═══════════════════════════════════════════════════════════
[ OK: 41 | SKIPPED: 0 | WARNINGS: 2 | FAILED: 0 ]
>
> proc.time()
user system elapsed
134.324 0.336 135.016
perturbatr.Rcheck/perturbatr-Ex.timings
| name | user | system | elapsed | |
| HMAnalysedPerturbationData-class | 6.728 | 0.112 | 6.852 | |
| NetworkAnalysedPerturbationData-class | 6.200 | 0.036 | 6.341 | |
| PerturbationData-class | 0.02 | 0.00 | 0.02 | |
| bootstrap | 79.680 | 0.068 | 79.900 | |
| dataSet-methods | 0.936 | 0.016 | 0.955 | |
| diffuse-methods | 5.436 | 0.020 | 5.458 | |
| filter-methods | 0.608 | 0.012 | 0.621 | |
| geneEffects-methods | 5.480 | 0.044 | 5.534 | |
| graph-methods | 5.268 | 0.024 | 5.312 | |
| hm-methods | 5.320 | 0.036 | 5.366 | |
| inference-methods | 5.540 | 0.032 | 5.575 | |
| isBootstrapped-methods | 5.040 | 0.036 | 5.084 | |
| modelFit-methods | 4.804 | 0.048 | 4.859 | |
| nestedGeneEffects-methods | 4.588 | 0.020 | 4.613 | |
| params-methods | 5.780 | 0.036 | 5.820 | |
| rbind.PerturbationData | 0.848 | 0.024 | 0.873 | |
| rnaiscreen | 5.672 | 0.044 | 5.719 | |