| Back to Multiple platform build/check report for BioC 3.10 | 
  | 
This page was generated on 2020-04-15 12:28:14 -0400 (Wed, 15 Apr 2020).
| Package 1129/1823 | Hostname | OS / Arch | INSTALL | BUILD | CHECK | BUILD BIN | ||||||
| NADfinder 1.10.0 Jianhong Ou 
  | malbec1 | Linux (Ubuntu 18.04.4 LTS) / x86_64 | OK | OK | OK | |||||||
| tokay1 | Windows Server 2012 R2 Standard / x64 | OK | OK | OK | [ OK ] | |||||||
| merida1 | OS X 10.11.6 El Capitan / x86_64 | OK | OK | OK | OK | 
| Package: NADfinder | 
| Version: 1.10.0 | 
| Command: rm -rf NADfinder.buildbin-libdir && mkdir NADfinder.buildbin-libdir && C:\Users\biocbuild\bbs-3.10-bioc\R\bin\R.exe CMD INSTALL --merge-multiarch --build --library=NADfinder.buildbin-libdir NADfinder_1.10.0.tar.gz | 
| StartedAt: 2020-04-15 09:15:16 -0400 (Wed, 15 Apr 2020) | 
| EndedAt: 2020-04-15 09:16:59 -0400 (Wed, 15 Apr 2020) | 
| EllapsedTime: 103.6 seconds | 
| RetCode: 0 | 
| Status: OK | 
| PackageFile: NADfinder_1.10.0.zip | 
| PackageFileSize: 6.432 MiB | 
##############################################################################
##############################################################################
###
### Running command:
###
###   rm -rf NADfinder.buildbin-libdir && mkdir NADfinder.buildbin-libdir && C:\Users\biocbuild\bbs-3.10-bioc\R\bin\R.exe CMD INSTALL --merge-multiarch --build --library=NADfinder.buildbin-libdir NADfinder_1.10.0.tar.gz
###
##############################################################################
##############################################################################
install for i386
* installing *source* package 'NADfinder' ...
** using staged installation
** R
** data
*** moving datasets to lazyload DB
** inst
** byte-compile and prepare package for lazy loading
** help
*** installing help indices
  converting help for package 'NADfinder'
    finding HTML links ... done
    IntersectionNotStrict                   html  
    NADfinder-package                       html  
    backgroundCorrection                    html  
    butterFilter                            html  
    callPeaks                               html  
    computeLibSizeChrom                     html  
    cumulativePercentage                    html  
    exportSignals                           html  
    getCorrelations                         html  
    groupZscores                            html  
    log2se                                  html  
    peakdet                                 html  
    plotSig                                 html  
    single.count                            html  
    smoothRatiosByChromosome                html  
    tileCount                               html  
    tileCount2                              html  
    transformData                           html  
    trimPeaks                               html  
    triplicate.count                        html  
    zscoreOverBck                           html  
** building package indices
** installing vignettes
** testing if installed package can be loaded from temporary location
** testing if installed package can be loaded from final location
** testing if installed package keeps a record of temporary installation path
install for x64
* installing *source* package 'NADfinder' ...
** testing if installed package can be loaded
* MD5 sums
packaged installation of 'NADfinder' as NADfinder_1.10.0.zip
* DONE (NADfinder)