All our mirrors of open source software are available via http, https, ftp and an onion service. More information about our mirrors including statistics and contact information is available on our mirror info pages.
For information about dotsrc.org and our other services please go to our website.
| File Name ↓ | File Size ↓ | Date ↓ | 
|---|---|---|
| Parent directory/ | - | - | 
| ABarray/ | - | 2009-10-21 06:57:54 | 
| ACME/ | - | 2009-10-21 06:57:58 | 
| AffyCompatible/ | - | 2009-10-21 06:58:03 | 
| AffyExpress/ | - | 2009-10-21 06:58:00 | 
| AffyTiling/ | - | 2009-10-21 06:58:06 | 
| Agi4x44PreProcess/ | - | 2009-10-21 06:58:05 | 
| AnnotationDbi/ | - | 2009-10-21 06:57:56 | 
| ArrayExpress/ | - | 2009-10-21 06:58:05 | 
| ArrayTools/ | - | 2009-10-21 06:58:05 | 
| BAC/ | - | 2009-10-21 06:58:01 | 
| BCRANK/ | - | 2009-10-21 06:58:02 | 
| BGmix/ | - | 2009-10-21 06:58:01 | 
| BSgenome/ | - | 2009-10-21 06:57:52 | 
| BicARE/ | - | 2009-10-21 06:58:05 | 
| BioMVCClass/ | - | 2009-10-21 06:57:54 | 
| Biobase/ | - | 2009-10-21 06:57:40 | 
| BiocCaseStudies/ | - | 2009-10-21 06:58:01 | 
| Biostrings/ | - | 2009-10-21 06:57:43 | 
| BufferedMatrix/ | - | 2009-10-21 06:57:56 | 
| BufferedMatrixMethods/ | - | 2009-10-21 06:57:56 | 
| CALIB/ | - | 2009-10-21 06:57:58 | 
| CAMERA/ | - | 2009-10-21 06:58:07 | 
| CGHbase/ | - | 2009-10-21 06:58:03 | 
| CGHcall/ | - | 2009-10-21 06:58:00 | 
| CGHregions/ | - | 2009-10-21 06:58:03 | 
| CMA/ | - | 2009-10-21 06:58:03 | 
| CORREP/ | - | 2009-10-21 06:57:58 | 
| Category/ | - | 2009-10-21 06:57:48 | 
| ChemmineR/ | - | 2009-10-21 06:58:05 | 
| CoCiteStats/ | - | 2009-10-21 06:57:47 | 
| DAVIDQuery/ | - | 2009-10-21 06:58:07 | 
| DEDS/ | - | 2009-10-21 06:57:46 | 
| DFP/ | - | 2009-10-21 06:58:04 | 
| DNAcopy/ | - | 2009-10-21 06:57:44 | 
| DynDoc/ | - | 2009-10-21 06:57:40 | 
| EBImage/ | - | 2009-10-21 06:57:51 | 
| EBarrays/ | - | 2009-10-21 06:57:44 | 
| GEOmetadb/ | - | 2009-10-21 06:58:02 | 
| GEOquery/ | - | 2009-10-21 06:57:50 | 
| GGBase/ | - | 2009-10-21 06:58:03 | 
| GGtools/ | - | 2009-10-21 06:57:55 | 
| GLAD/ | - | 2009-10-21 06:57:46 | 
| GOSemSim/ | - | 2009-10-21 06:58:06 | 
| GOstats/ | - | 2009-10-21 06:57:45 | 
| GSEABase/ | - | 2009-10-21 06:57:59 | 
| GSEAlm/ | - | 2009-10-21 06:58:02 | 
| GeneMeta/ | - | 2009-10-21 06:57:48 | 
| GeneR/ | - | 2009-10-21 06:57:43 | 
| GeneRegionScan/ | - | 2009-10-21 06:58:08 | 
| GeneRfold/ | - | 2009-10-21 06:57:51 | 
| GeneSelectMMD/ | - | 2009-10-21 06:58:07 | 
| GeneSelector/ | - | 2009-10-21 06:58:02 | 
| GeneSpring/ | - | 2009-10-21 06:57:43 | 
| GeneTraffic/ | - | 2009-10-21 06:57:45 | 
| GeneticsBase/ | - | 2009-10-21 06:57:58 | 
| GeneticsDesign/ | - | 2009-10-21 06:57:57 | 
| GeneticsPed/ | - | 2009-10-21 06:57:58 | 
| GenomeGraphs/ | - | 2009-10-21 06:58:02 | 
| GlobalAncova/ | - | 2009-10-21 06:57:49 | 
| GraphAT/ | - | 2009-10-21 06:57:45 | 
| GraphAlignment/ | - | 2009-10-21 06:58:01 | 
| HELP/ | - | 2009-10-21 06:58:03 | 
| HEM/ | - | 2009-10-21 06:57:45 | 
| Harshlight/ | - | 2009-10-21 06:57:54 | 
| Heatplus/ | - | 2009-10-21 06:57:52 | 
| HilbertVis/ | - | 2009-10-21 06:58:05 | 
| HilbertVisGUI/ | - | 2009-10-21 06:58:05 | 
| IRanges/ | - | 2009-10-21 06:57:43 | 
| ITALICS/ | - | 2009-10-21 06:58:04 | 
| Icens/ | - | 2009-10-21 06:57:44 | 
| KCsmart/ | - | 2009-10-21 06:58:05 | 
| KEGGSOAP/ | - | 2009-10-21 06:57:45 | 
| KEGGgraph/ | - | 2009-10-21 06:58:06 | 
| LBE/ | - | 2009-10-21 06:57:57 | 
| LMGene/ | - | 2009-10-21 06:57:49 | 
| LPE/ | - | 2009-10-21 06:57:43 | 
| LPEadj/ | - | 2009-10-21 06:58:03 | 
| MANOR/ | - | 2009-10-21 06:57:50 | 
| MCRestimate/ | - | 2009-10-21 06:58:06 | 
| MEDME/ | - | 2009-10-21 06:58:04 | 
| MLInterfaces/ | - | 2009-10-21 06:57:45 | 
| MVCClass/ | - | 2009-10-21 06:57:46 | 
| MantelCorr/ | - | 2009-10-21 06:57:50 | 
| MassSpecWavelet/ | - | 2009-10-21 06:57:58 | 
| MeasurementError.cor/ | - | 2009-10-21 06:57:42 | 
| MergeMaid/ | - | 2009-10-21 06:57:45 | 
| Mfuzz/ | - | 2009-10-21 06:57:51 | 
| MiPP/ | - | 2009-10-21 06:57:48 | 
| OCplus/ | - | 2009-10-21 06:57:52 | 
| OLIN/ | - | 2009-10-21 06:57:45 | 
| OLINgui/ | - | 2009-10-21 06:57:46 | 
| OrderedList/ | - | 2009-10-21 06:57:52 | 
| OutlierD/ | - | 2009-10-21 06:58:00 | 
| PAnnBuilder/ | - | 2009-10-21 06:58:07 | 
| PCpheno/ | - | 2009-10-21 06:58:01 | 
| PGSEA/ | - | 2009-10-21 06:57:58 | 
| PLPE/ | - | 2009-10-21 06:58:04 | 
| PROcess/ | - | 2009-10-21 06:57:44 | 
| RBGL/ | - | 2009-10-21 06:57:42 | 
| RBioinf/ | - | 2009-10-21 06:58:02 | 
| RLMM/ | - | 2009-10-21 06:57:50 | 
| RMAGEML/ | - | 2009-10-21 06:56:21 | 
| RNAither/ | - | 2009-10-21 06:58:05 | 
| ROC/ | - | 2009-10-21 06:57:40 | 
| RWebServices/ | - | 2009-10-21 06:56:36 | 
| RankProd/ | - | 2009-10-21 06:57:47 | 
| RbcBook1/ | - | 2009-10-21 06:57:55 | 
| Rdbi/ | - | 2009-10-21 06:57:42 | 
| RdbiPgSQL/ | - | 2009-10-21 06:57:42 | 
| Rdisop/ | - | 2009-10-21 06:57:05 | 
| RefPlus/ | - | 2009-10-21 06:57:56 | 
| Resourcerer/ | - | 2009-10-21 06:57:44 | 
| Rgraphviz/ | - | 2009-10-21 06:57:41 | 
| Ringo/ | - | 2009-10-21 06:57:58 | 
| Rintact/ | - | 2009-10-21 06:57:59 | 
| Rmagpie/ | - | 2009-10-21 06:58:08 | 
| RpsiXML/ | - | 2009-10-21 06:58:04 | 
| Rredland/ | - | 2009-10-21 06:57:24 | 
| Rtreemix/ | - | 2009-10-21 06:58:01 | 
| Ruuid/ | - | 2009-10-21 06:57:40 | 
| SAGx/ | - | 2009-10-21 06:57:55 | 
| SBMLR/ | - | 2009-10-21 06:57:47 | 
| SIM/ | - | 2009-10-21 06:58:03 | 
| SLGI/ | - | 2009-10-21 06:58:01 | 
| SLqPCR/ | - | 2009-10-21 06:57:57 | 
| SMAP/ | - | 2009-10-21 06:57:59 | 
| SNPchip/ | - | 2009-10-21 06:57:51 | 
| SPIA/ | - | 2009-10-21 06:58:06 | 
| SSPA/ | - | 2009-10-21 06:58:07 | 
| ScISI/ | - | 2009-10-21 06:57:51 | 
| ShortRead/ | - | 2009-10-21 06:58:03 | 
| TargetSearch/ | - | 2009-10-21 06:58:08 | 
| TypeInfo/ | - | 2009-10-21 06:57:54 | 
| VanillaICE/ | - | 2009-10-21 06:58:00 | 
| XDE/ | - | 2009-10-21 06:58:01 | 
| aCGH/ | - | 2009-10-21 06:57:45 | 
| adSplit/ | - | 2009-10-21 06:57:51 | 
| affxparser/ | - | 2009-10-21 06:57:49 | 
| affy/ | - | 2009-10-21 06:57:41 | 
| affyContam/ | - | 2009-10-21 06:58:05 | 
| affyPLM/ | - | 2009-10-21 06:57:42 | 
| affyPara/ | - | 2009-10-21 06:58:02 | 
| affyQCReport/ | - | 2009-10-21 06:57:49 | 
| affycomp/ | - | 2009-10-21 06:57:41 | 
| affycoretools/ | - | 2009-10-21 06:57:50 | 
| affyio/ | - | 2009-10-21 06:57:40 | 
| affylmGUI/ | - | 2009-10-21 06:57:44 | 
| affypdnn/ | - | 2009-10-21 06:57:43 | 
| altcdfenvs/ | - | 2009-10-21 06:57:44 | 
| annaffy/ | - | 2009-10-21 06:57:42 | 
| annotate/ | - | 2009-10-21 06:57:40 | 
| annotationTools/ | - | 2009-10-21 06:57:57 | 
| apComplex/ | - | 2009-10-21 06:57:47 | 
| aroma.light/ | - | 2009-10-21 06:57:54 | 
| arrayMvout/ | - | 2009-10-21 06:58:05 | 
| arrayQuality/ | - | 2009-10-21 06:57:44 | 
| arrayQualityMetrics/ | - | 2009-10-21 06:58:00 | 
| beadarray/ | - | 2009-10-21 06:57:51 | 
| beadarraySNP/ | - | 2009-10-21 06:57:55 | 
| betr/ | - | 2009-10-21 06:58:07 | 
| bgafun/ | - | 2009-10-21 06:58:00 | 
| bgx/ | - | 2009-10-21 06:57:59 | 
| bioDist/ | - | 2009-10-21 06:57:47 | 
| biocDatasets/ | - | 2009-10-21 06:58:07 | 
| biocGraph/ | - | 2009-10-21 06:57:59 | 
| biocViews/ | - | 2009-10-21 06:57:49 | 
| biomaRt/ | - | 2009-10-21 06:57:47 | 
| bridge/ | - | 2009-10-21 06:57:48 | 
| cellHTS/ | - | 2009-10-21 06:57:51 | 
| cellHTS2/ | - | 2009-10-21 06:57:59 | 
| cghMCR/ | - | 2009-10-21 06:57:52 | 
| clusterStab/ | - | 2009-10-21 06:57:49 | 
| codelink/ | - | 2009-10-21 06:57:50 | 
| convert/ | - | 2009-10-21 06:57:44 | 
| copa/ | - | 2009-10-21 06:57:51 | 
| cosmo/ | - | 2009-10-21 06:57:56 | 
| cosmoGUI/ | - | 2009-10-21 06:57:57 | 
| crlmm/ | - | 2009-10-21 06:58:07 | 
| ctc/ | - | 2009-10-21 06:57:40 | 
| daMA/ | - | 2009-10-21 06:57:42 | 
| diffGeneAnalysis/ | - | 2009-10-21 06:57:49 | 
| domainsignatures/ | - | 2009-10-21 06:58:04 | 
| dualKS/ | - | 2009-10-21 06:58:03 | 
| dyebias/ | - | 2009-10-21 06:58:07 | 
| ecolitk/ | - | 2009-10-21 06:57:43 | 
| edd/ | - | 2009-10-21 06:57:40 | 
| edgeR/ | - | 2009-10-21 06:58:04 | 
| exonmap/ | - | 2009-10-21 06:57:57 | 
| explorase/ | - | 2009-10-21 06:57:59 | 
| externalVector/ | - | 2009-10-21 06:57:42 | 
| factDesign/ | - | 2009-10-21 06:57:42 | 
| fbat/ | - | 2009-10-21 06:57:58 | 
| fdrame/ | - | 2009-10-21 06:57:49 | 
| flagme/ | - | 2009-10-21 06:58:06 | 
| flowClust/ | - | 2009-10-21 06:58:02 | 
| flowCore/ | - | 2009-10-21 06:57:55 | 
| flowFlowJo/ | - | 2009-10-21 06:58:07 | 
| flowQ/ | - | 2009-10-21 06:57:56 | 
| flowStats/ | - | 2009-10-21 06:58:08 | 
| flowUtils/ | - | 2009-10-21 06:57:55 | 
| flowViz/ | - | 2009-10-21 06:57:56 | 
| gaga/ | - | 2009-10-21 06:58:01 | 
| gaggle/ | - | 2009-10-21 06:57:54 | 
| gcrma/ | - | 2009-10-21 06:57:42 | 
| genArise/ | - | 2009-10-21 06:57:46 | 
| gene2pathway/ | - | 2009-10-21 06:58:06 | 
| geneRecommender/ | - | 2009-10-21 06:57:48 | 
| genefilter/ | - | 2009-10-21 06:57:40 | 
| geneplotter/ | - | 2009-10-21 06:57:40 | 
| genomeIntervals/ | - | 2009-10-21 06:58:07 | 
| globaltest/ | - | 2009-10-21 06:57:45 | 
| goProfiles/ | - | 2009-10-21 06:58:03 | 
| goTools/ | - | 2009-10-21 06:57:44 | 
| gpls/ | - | 2009-10-21 06:57:42 | 
| graph/ | - | 2009-10-21 06:57:41 | 
| hexbin/ | - | 2009-10-21 06:57:41 | 
| hopach/ | - | 2009-10-21 06:57:46 | 
| hypergraph/ | - | 2009-10-21 06:57:48 | 
| idiogram/ | - | 2009-10-21 06:57:48 | 
| impute/ | - | 2009-10-21 06:57:43 | 
| iterativeBMA/ | - | 2009-10-21 06:58:04 | 
| iterativeBMAsurv/ | - | 2009-10-21 06:58:04 | 
| keggorth/ | - | 2009-10-21 06:57:59 | 
| lapmix/ | - | 2009-10-21 06:57:54 | 
| limma/ | - | 2009-10-21 06:57:41 | 
| limmaGUI/ | - | 2009-10-21 06:57:44 | 
| logicFS/ | - | 2009-10-21 06:57:52 | 
| logitT/ | - | 2009-10-21 06:58:04 | 
| lumi/ | - | 2009-10-21 06:57:56 | 
| maCorrPlot/ | - | 2009-10-21 06:57:52 | 
| maDB/ | - | 2009-10-21 06:57:48 | 
| maSigPro/ | - | 2009-10-21 06:57:50 | 
| maanova/ | - | 2009-10-21 06:57:49 | 
| macat/ | - | 2009-10-21 06:57:46 | 
| made4/ | - | 2009-10-21 06:57:47 | 
| maigesPack/ | - | 2009-10-21 06:58:00 | 
| makePlatformDesign/ | - | 2009-10-21 06:57:49 | 
| makecdfenv/ | - | 2009-10-21 06:57:41 | 
| marray/ | - | 2009-10-21 06:57:44 | 
| matchprobes/ | - | 2009-10-21 06:57:42 | 
| mdqc/ | - | 2009-10-21 06:58:02 | 
| metaArray/ | - | 2009-10-21 06:57:50 | 
| metahdep/ | - | 2009-10-21 06:58:07 | 
| miRNApath/ | - | 2009-10-21 06:58:03 | 
| microRNA/ | - | 2009-10-21 06:58:05 | 
| minet/ | - | 2009-10-21 06:58:04 | 
| multiscan/ | - | 2009-10-21 06:58:03 | 
| multtest/ | - | 2009-10-21 06:57:40 | 
| nem/ | - | 2009-10-21 06:57:55 | 
| nnNorm/ | - | 2009-10-21 06:57:45 | 
| nudge/ | - | 2009-10-21 06:57:52 | 
| occugene/ | - | 2009-10-21 06:57:56 | 
| oligo/ | - | 2009-10-21 06:57:48 | 
| oligoClasses/ | - | 2009-10-21 06:58:00 | 
| oneChannelGUI/ | - | 2009-10-21 06:57:58 | 
| ontoTools/ | - | 2009-10-21 06:57:42 | 
| pamr/ | - | 2009-10-21 06:57:41 | 
| panp/ | - | 2009-10-21 06:57:50 | 
| parody/ | - | 2009-10-21 06:58:05 | 
| pathRender/ | - | 2009-10-21 06:57:50 | 
| pcaMethods/ | - | 2009-10-21 06:57:55 | 
| pcot2/ | - | 2009-10-21 06:57:54 | 
| pdInfoBuilder/ | - | 2009-10-21 06:57:56 | 
| pdmclass/ | - | 2009-10-21 06:57:49 | 
| pgUtils/ | - | 2009-10-21 06:57:48 | 
| pickgene/ | - | 2009-10-21 06:57:43 | 
| pkgDepTools/ | - | 2009-10-21 06:57:55 | 
| plgem/ | - | 2009-10-21 06:57:47 | 
| plier/ | - | 2009-10-21 06:57:47 | 
| plw/ | - | 2009-10-21 06:58:01 | 
| ppiStats/ | - | 2009-10-21 06:57:55 | 
| prada/ | - | 2009-10-21 06:57:44 | 
| preprocessCore/ | - | 2009-10-21 06:57:41 | 
| puma/ | - | 2009-10-21 06:57:59 | 
| qpcrNorm/ | - | 2009-10-21 06:58:07 | 
| qpgraph/ | - | 2009-10-21 06:58:06 | 
| quantsmooth/ | - | 2009-10-21 06:57:54 | 
| qvalue/ | - | 2009-10-21 06:57:43 | 
| rHVDM/ | - | 2009-10-21 06:57:57 | 
| rama/ | - | 2009-10-21 06:57:44 | 
| rbsurv/ | - | 2009-10-21 06:57:58 | 
| reb/ | - | 2009-10-21 06:57:49 | 
| rflowcyt/ | - | 2009-10-21 06:57:45 | 
| rsbml/ | - | 2009-10-21 06:58:00 | 
| rtracklayer/ | - | 2009-10-21 06:58:02 | 
| safe/ | - | 2009-10-21 06:57:47 | 
| sagenhaft/ | - | 2009-10-21 06:57:47 | 
| seqLogo/ | - | 2009-10-21 06:57:57 | 
| sigPathway/ | - | 2009-10-21 06:57:54 | 
| siggenes/ | - | 2009-10-21 06:57:42 | 
| simpleaffy/ | - | 2009-10-21 06:57:43 | 
| simulatorAPMS/ | - | 2009-10-21 06:57:50 | 
| sizepower/ | - | 2009-10-21 06:57:51 | 
| snapCGH/ | - | 2009-10-21 06:57:50 | 
| snpMatrix/ | - | 2009-10-21 06:58:02 | 
| spikeLI/ | - | 2009-10-21 06:57:54 | 
| spkTools/ | - | 2009-10-21 06:58:06 | 
| splicegear/ | - | 2009-10-21 06:57:42 | 
| splots/ | - | 2009-10-21 06:57:55 | 
| spotSegmentation/ | - | 2009-10-21 06:57:47 | 
| sscore/ | - | 2009-10-21 06:57:51 | 
| ssize/ | - | 2009-10-21 06:57:48 | 
| stam/ | - | 2009-10-21 06:57:46 | 
| stepNorm/ | - | 2009-10-21 06:57:46 | 
| tilingArray/ | - | 2009-10-21 06:57:47 | 
| timecourse/ | - | 2009-10-21 06:57:49 | 
| tkWidgets/ | - | 2009-10-21 06:57:40 | 
| topGO/ | - | 2009-10-21 06:57:57 | 
| tspair/ | - | 2009-10-21 06:58:06 | 
| twilight/ | - | 2009-10-21 06:57:46 | 
| vbmp/ | - | 2009-10-21 06:58:00 | 
| vsn/ | - | 2009-10-21 06:57:41 | 
| weaver/ | - | 2009-10-21 06:57:54 | 
| webbioc/ | - | 2009-10-21 06:57:43 | 
| widgetTools/ | - | 2009-10-21 06:57:41 | 
| xcms/ | - | 2009-10-21 06:57:48 | 
| xmapbridge/ | - | 2009-10-21 06:58:05 | 
| xps/ | - | 2009-10-21 06:58:00 | 
| yaqcaffy/ | - | 2009-10-21 06:58:00 | 
| STATUS_DB.txt | 99.5 KiB | 2009-10-21 06:56:18 | 
| index.html | 1.1 MiB | 2009-10-21 06:58:19 | 
| liverpool-NodeInfo.html | 3.8 KiB | 2009-10-21 06:58:13 | 
| liverpool-R-instpkgs.html | 31.2 KiB | 2009-10-21 06:58:13 | 
| liverpool-index.html | 239.4 KiB | 2009-10-21 06:58:10 | 
| meat-index.txt | 52.7 KiB | 2009-10-21 06:55:53 | 
| pelham-NodeInfo.html | 4.0 KiB | 2009-10-21 06:58:13 | 
| pelham-R-instpkgs.html | 31.0 KiB | 2009-10-21 06:58:13 | 
| pelham-index.html | 234.8 KiB | 2009-10-21 06:58:13 | 
| pitt-NodeInfo.html | 3.9 KiB | 2009-10-21 06:58:13 | 
| pitt-R-instpkgs.html | 30.8 KiB | 2009-10-21 06:58:13 | 
| pitt-index.html | 231.0 KiB | 2009-10-21 06:58:12 | 
| report.css | 5.8 KiB | 2009-10-21 06:56:18 | 
| report.js | 3.9 KiB | 2009-10-21 06:56:18 | 
| report.tgz | 2.4 MiB | 2009-10-21 06:58:20 | 
| wilson1-NodeInfo.html | 3.8 KiB | 2009-10-21 06:58:13 | 
| wilson1-R-instpkgs.html | 31.1 KiB | 2009-10-21 06:58:13 | 
| wilson1-index.html | 208.3 KiB | 2009-10-21 06:58:09 |