All our mirrors of open source software are available via http, https, ftp and an onion service. More information about our mirrors including statistics and contact information is available on our mirror info pages.
For information about dotsrc.org and our other services please go to our website.
| File Name ↓ | File Size ↓ | Date ↓ | 
|---|---|---|
| Parent directory/ | - | - | 
| AmpAffyExample/ | - | 2009-04-10 11:45:19 | 
| maqcExpression4plex/ | - | 2009-04-10 11:45:22 | 
| GGdata/ | - | 2009-04-10 11:45:20 | 
| ALLMLL/ | - | 2009-04-10 11:45:19 | 
| gcspikelite/ | - | 2009-04-10 11:45:23 | 
| ProData/ | - | 2009-04-10 11:45:20 | 
| gaschYHS/ | - | 2009-04-10 11:45:19 | 
| ITALICSData/ | - | 2009-04-10 11:45:23 | 
| XhybCasneuf/ | - | 2009-04-10 11:45:22 | 
| hgu2beta7/ | - | 2009-04-10 11:45:20 | 
| SpikeInSubset/ | - | 2009-04-10 11:45:21 | 
| hapmap100kxba/ | - | 2009-04-10 11:45:21 | 
| golubEsets/ | - | 2009-04-10 11:45:20 | 
| hapmapsnp5/ | - | 2009-04-10 11:45:23 | 
| affydata/ | - | 2009-04-10 11:45:19 | 
| lungExpression/ | - | 2009-04-10 11:45:21 | 
| bronchialIL13/ | - | 2009-04-10 11:45:19 | 
| SpikeIn/ | - | 2009-04-10 11:45:20 | 
| TargetSearchData/ | - | 2009-04-10 11:45:23 | 
| hapmap500ksty/ | - | 2009-04-10 11:45:22 | 
| hapmap500knsp/ | - | 2009-04-10 11:45:22 | 
| humanStemCell/ | - | 2009-04-10 11:45:23 | 
| CCl4/ | - | 2009-04-10 11:45:21 | 
| dyebiasexamples/ | - | 2009-04-10 11:45:23 | 
| HEEBOdata/ | - | 2009-04-10 11:45:20 | 
| MAQCsubsetILM/ | - | 2009-04-10 11:45:23 | 
| kidpack/ | - | 2009-04-10 11:45:20 | 
| MAQCsubset/ | - | 2009-04-10 11:45:20 | 
| Iyer517/ | - | 2009-04-10 11:45:20 | 
| ecoliLeucine/ | - | 2009-04-10 11:45:19 | 
| ALL/ | - | 2009-04-10 11:45:19 | 
| yeastGSData/ | - | 2009-04-10 11:45:22 | 
| colonCA/ | - | 2009-04-10 11:45:19 | 
| tinesath1cdf/ | - | 2009-04-10 11:45:22 | 
| mvoutData/ | - | 2009-04-10 11:45:23 | 
| tinesath1probe/ | - | 2009-04-10 11:45:22 | 
| gatingMLData/ | - | 2009-04-10 11:45:19 | 
| estrogen/ | - | 2009-04-10 11:45:19 | 
| rfcdmin/ | - | 2009-04-10 11:45:20 | 
| hmyriB36/ | - | 2009-04-10 11:45:23 | 
| harbChIP/ | - | 2009-04-10 11:45:20 | 
| MAQCsubsetAFX/ | - | 2009-04-10 11:45:22 | 
| MEEBOdata/ | - | 2009-04-10 11:45:20 | 
| CLL/ | - | 2009-04-10 11:45:19 | 
| facsDorit/ | - | 2009-04-10 11:45:19 | 
| hapmap100khind/ | - | 2009-04-10 11:45:22 | 
| stjudem/ | - | 2009-04-10 11:45:21 | 
| davidTiling/ | - | 2009-04-10 11:45:19 | 
| faahKO/ | - | 2009-04-10 11:45:19 | 
| pumadata/ | - | 2009-04-10 11:45:21 | 
| fibroEset/ | - | 2009-04-10 11:45:19 | 
| yeastCC/ | - | 2009-04-10 11:45:21 | 
| hapmapsnp6/ | - | 2009-04-10 11:45:23 | 
| HIVcDNAvantWout03/ | - | 2009-04-10 11:45:20 | 
| lumiBarnes/ | - | 2009-04-10 11:45:21 | 
| beta7/ | - | 2009-04-10 11:45:19 | 
| Neve2006/ | - | 2009-04-10 11:45:22 | 
| AffymetrixDataTestFiles/ | - | 2009-04-10 11:45:19 | 
| msdata/ | - | 2009-04-10 11:45:23 | 
| ccTutorial/ | - | 2009-04-10 11:45:23 | 
| SNAData/ | - | 2009-04-10 11:45:20 | 
| yeastExpData/ | - | 2009-04-10 11:45:21 | 
| ppiData/ | - | 2009-04-10 11:45:20 | 
| encoDnaseI/ | - | 2009-04-10 11:45:23 | 
| report.tgz | 207.4 KiB | 2009-04-10 11:45:24 | 
| index.html | 176.2 KiB | 2009-04-10 11:45:24 | 
| liverpool-index.html | 46.8 KiB | 2009-04-10 11:45:24 | 
| pelham-index.html | 45.5 KiB | 2009-04-10 11:45:24 | 
| wilson2-index.html | 40.1 KiB | 2009-04-10 11:45:23 | 
| wilson2-R-instpkgs.html | 30.1 KiB | 2009-04-10 11:45:24 | 
| liverpool-R-instpkgs.html | 30.1 KiB | 2009-04-10 11:45:24 | 
| pelham-R-instpkgs.html | 29.5 KiB | 2009-04-10 11:45:24 | 
| STATUS_DB.txt | 16.4 KiB | 2009-04-10 11:45:10 | 
| meat-index.txt | 10.5 KiB | 2009-04-10 11:45:06 | 
| report.css | 5.8 KiB | 2009-04-10 11:45:10 | 
| pelham-NodeInfo.html | 4.0 KiB | 2009-04-10 11:45:24 | 
| liverpool-NodeInfo.html | 3.8 KiB | 2009-04-10 11:45:24 | 
| wilson2-NodeInfo.html | 3.8 KiB | 2009-04-10 11:45:24 |