All our mirrors of open source software are available via http, https, ftp and an onion service. More information about our mirrors including statistics and contact information is available on our mirror info pages.
For information about dotsrc.org and our other services please go to our website.
| File Name ↓ | File Size ↓ | Date ↓ |
|---|---|---|
| Parent directory/ | - | - |
| ALL/ | - | 2008-10-16 23:45:46 |
| ALLMLL/ | - | 2008-10-16 23:45:46 |
| AffymetrixDataTestFiles/ | - | 2008-10-16 23:45:46 |
| AmpAffyExample/ | - | 2008-10-16 23:45:46 |
| CCl4/ | - | 2008-10-16 23:45:47 |
| CLL/ | - | 2008-10-16 23:45:46 |
| GGdata/ | - | 2008-10-16 23:45:47 |
| HEEBOdata/ | - | 2008-10-16 23:45:47 |
| HIVcDNAvantWout03/ | - | 2008-10-16 23:45:47 |
| ITALICSData/ | - | 2008-10-16 23:45:47 |
| Iyer517/ | - | 2008-10-16 23:45:47 |
| MAQCsubset/ | - | 2008-10-16 23:45:47 |
| MAQCsubsetAFX/ | - | 2008-10-16 23:45:47 |
| MAQCsubsetILM/ | - | 2008-10-16 23:45:47 |
| MEEBOdata/ | - | 2008-10-16 23:45:47 |
| Neve2006/ | - | 2008-10-16 23:45:47 |
| ProData/ | - | 2008-10-16 23:45:47 |
| SNAData/ | - | 2008-10-16 23:45:47 |
| SpikeIn/ | - | 2008-10-16 23:45:47 |
| SpikeInSubset/ | - | 2008-10-16 23:45:47 |
| XhybCasneuf/ | - | 2008-10-16 23:45:47 |
| affydata/ | - | 2008-10-16 23:45:46 |
| beta7/ | - | 2008-10-16 23:45:46 |
| bronchialIL13/ | - | 2008-10-16 23:45:46 |
| ccTutorial/ | - | 2008-10-16 23:45:47 |
| colonCA/ | - | 2008-10-16 23:45:46 |
| davidTiling/ | - | 2008-10-16 23:45:46 |
| ecoliLeucine/ | - | 2008-10-16 23:45:46 |
| encoDnaseI/ | - | 2008-10-16 23:45:47 |
| estrogen/ | - | 2008-10-16 23:45:46 |
| faahKO/ | - | 2008-10-16 23:45:46 |
| facsDorit/ | - | 2008-10-16 23:45:46 |
| fibroEset/ | - | 2008-10-16 23:45:46 |
| gaschYHS/ | - | 2008-10-16 23:45:46 |
| gatingMLData/ | - | 2008-10-16 23:45:46 |
| golubEsets/ | - | 2008-10-16 23:45:47 |
| hapmap100khind/ | - | 2008-10-16 23:45:47 |
| hapmap100kxba/ | - | 2008-10-16 23:45:47 |
| hapmap500knsp/ | - | 2008-10-16 23:45:47 |
| hapmap500ksty/ | - | 2008-10-16 23:45:47 |
| hapmapsnp5/ | - | 2008-10-16 23:45:47 |
| hapmapsnp6/ | - | 2008-10-16 23:45:47 |
| harbChIP/ | - | 2008-10-16 23:45:47 |
| hgu2beta7/ | - | 2008-10-16 23:45:47 |
| hmyriB36/ | - | 2008-10-16 23:45:47 |
| humanStemCell/ | - | 2008-10-16 23:45:47 |
| kidpack/ | - | 2008-10-16 23:45:47 |
| lumiBarnes/ | - | 2008-10-16 23:45:47 |
| lungExpression/ | - | 2008-10-16 23:45:47 |
| maqcExpression4plex/ | - | 2008-10-16 23:45:47 |
| msdata/ | - | 2008-10-16 23:45:47 |
| mvoutData/ | - | 2008-10-16 23:45:48 |
| ppiData/ | - | 2008-10-16 23:45:47 |
| pumadata/ | - | 2008-10-16 23:45:47 |
| rfcdmin/ | - | 2008-10-16 23:45:47 |
| stjudem/ | - | 2008-10-16 23:45:47 |
| tinesath1cdf/ | - | 2008-10-16 23:45:47 |
| tinesath1probe/ | - | 2008-10-16 23:45:47 |
| yeastCC/ | - | 2008-10-16 23:45:47 |
| yeastExpData/ | - | 2008-10-16 23:45:47 |
| yeastGSData/ | - | 2008-10-16 23:45:47 |
| STATUS_DB.txt | 14.9 KiB | 2008-10-16 23:45:41 |
| index.html | 163.5 KiB | 2008-10-16 23:45:48 |
| lamb1-NodeInfo.html | 4.1 KiB | 2008-10-16 23:45:48 |
| lamb1-R-instpkgs.html | 27.0 KiB | 2008-10-16 23:45:48 |
| lamb1-index.html | 37.7 KiB | 2008-10-16 23:45:48 |
| liverpool-NodeInfo.html | 3.8 KiB | 2008-10-16 23:45:48 |
| liverpool-R-instpkgs.html | 27.1 KiB | 2008-10-16 23:45:48 |
| liverpool-index.html | 44.7 KiB | 2008-10-16 23:45:48 |
| meat-index.txt | 10.0 KiB | 2008-10-16 23:45:29 |
| pitt-NodeInfo.html | 4.3 KiB | 2008-10-16 23:45:48 |
| pitt-R-instpkgs.html | 27.3 KiB | 2008-10-16 23:45:48 |
| pitt-index.html | 42.9 KiB | 2008-10-16 23:45:48 |
| report.css | 5.6 KiB | 2008-10-16 23:45:41 |
| report.tgz | 196.7 KiB | 2008-10-16 23:45:48 |