| Back to the "Multiple platform build/check report" |
| OS: | Windows Server 2003 R2 (32-bit) |
| Arch: | x64 |
| Platform: | mingw32 |
| R version: | 2.7.0 Under development (unstable) (2007-11-14 r43455) |
| R variable (VAR) | Value ('R CMD config <VAR>' output) |
| CC | gcc-sjlj -std=gnu99 |
| CFLAGS | -O3 -Wall |
| CPICFLAGS | |
| CPP | gcc-sjlj -std=gnu99 -E |
| Please refer to 'R CMD config -h' for the meaning of these variables | |
gcc version ('gcc --version' output):
'gcc' is not recognized as an internal or external command, operable program or batch file.
| R variable (VAR) | Value ('R CMD config <VAR>' output) |
| CXX | g++-sjlj |
| CXXFLAGS | -O2 -Wall |
| CXXPICFLAGS | |
| CXXCPP | g++-sjlj -E |
| Please refer to 'R CMD config -h' for the meaning of these variables | |
g++ version ('g++ --version' output):
'g++' is not recognized as an internal or external command, operable program or batch file.
| R variable (VAR) | Value ('R CMD config <VAR>' output) |
| F77 | gfortran-sjlj |
| FFLAGS | -O3 |
| FLIBS | -lgfortran |
| FPICFLAGS | |
| Please refer to 'R CMD config -h' for the meaning of these variables | |
g77 version ('g77 --version' output):
'g77' is not recognized as an internal or external command, operable program or batch file.
gfortran version ('gfortran --version' output):
'gfortran' is not recognized as an internal or external command, operable program or batch file.
More information coming soon...