| geneRecommender 1.11.0 Greg Hather
 
 | Snapshot Date: 2007-12-11 00:09:07 -0800 (Tue, 11 Dec 2007) |  | URL: https://hedgehog.fhcrc.org/bioconductor/trunk/madman/Rpacks/geneRecommender |  | Last Changed Rev: 27716 / Revision: 29143 |  | Last Changed Date: 2007-10-02 18:16:39 -0700 (Tue, 02 Oct 2007) | 
 | lamb1 | Linux (SUSE 10.1) / x86_64 | OK | OK |  | 
| wilson2 | Linux (openSUSE 10.3) / x86_64 | OK | OK |  | 
| wellington | Linux (openSUSE 10.3) / i686 | OK | OK |  | 
| liverpool | Windows Server 2003 R2 (32-bit) / x64 | OK | OK | [ OK ] | 
| lemming | Windows Server 2003 (32-bit) / x64 | OK | OK | OK | 
installing R.css in E:/biocbld/bbs-2.2-bioc/meat/geneRecommender.buildbin-libdir
Using auto-selected zip options ''
---------- Making package geneRecommender ------------
  adding build stamp to DESCRIPTION
  installing R files
  installing inst files
  installing man source files
  installing indices
  installing help
 >>> Building/Updating help pages for package 'geneRecommender'
     Formats: text html latex example chm 
  gr.cv                             text    html    latex   example chm
  gr.main                           text    html    latex   example chm
  gr.normalize                      text    html    latex   example chm
Microsoft HTML Help Compiler 4.74.8702
Compiling e:\biocbld\bbs-2.2-bioc\meat\R.INSTALL.5220\geneRecommender\chm\geneRecommender.chm
Compile time: 0 minutes, 1 second
4	Topics
6	Local links
0	Internet links
1	Graphic
Created e:\biocbld\bbs-2.2-bioc\meat\R.INSTALL.5220\geneRecommender\chm\geneRecommender.chm, 22,088 bytes
Compression increased file by 3,709 bytes.
  adding MD5 sums
packaged installation of package 'geneRecommender' as geneRecommender_1.11.0.zip
* DONE (geneRecommender)