oligo 1.28.3 Benilton Carvalho
| Snapshot Date: 2014-10-07 17:20:37 -0700 (Tue, 07 Oct 2014) | | URL: https://hedgehog.fhcrc.org/bioconductor/branches/RELEASE_2_14/madman/Rpacks/oligo | | Last Changed Rev: 94433 / Revision: 95116 | | Last Changed Date: 2014-09-23 10:38:51 -0700 (Tue, 23 Sep 2014) |
| zin2 | Linux (Ubuntu 12.04.4 LTS) / x86_64 | OK | OK | OK | |
| moscato2 | Windows Server 2008 R2 Enterprise SP1 (64-bit) / x64 | OK | OK | OK | OK |
| petty | Mac OS X Snow Leopard (10.6.8) / x86_64 | OK | OK | OK | OK |
| morelia | Mac OS X Mavericks (10.9.5) / x86_64 | OK | OK | OK | OK |