| Back to the "Multiple platform build/check report" |
This page was generated on 2013-10-08 16:06:59 -0700 (Tue, 08 Oct 2013).
| Package 42/156 | Hostname | OS / Arch | BUILD | CHECK | BUILD BIN | ||||
| DvDdata 0.99.1 J. Saez-Rodriguez
| george2 | Linux (Ubuntu 12.04.1 LTS) / x86_64 | OK | OK | |||||
| moscato2 | Windows Server 2008 R2 Enterprise SP1 (64-bit) / x64 | OK | OK | OK | |||||
| petty | Mac OS X Snow Leopard (10.6.8) / x86_64 | OK | OK | OK |