| Back to the "Multiple platform build/check report" | A B C D E F G H I J K L M N O P [Q] R S T U V W X Y Z | 
This page was generated on 2013-10-09 09:37:04 -0700 (Wed, 09 Oct 2013).
| Package 511/671 | Hostname | OS / Arch | BUILD | CHECK | BUILD BIN | ||||
| QUALIFIER 1.4.0 Mike Jiang 
  | george2 | Linux (Ubuntu 12.04.1 LTS) / x86_64 | OK | OK | |||||
| moscato2 | Windows Server 2008 R2 Enterprise SP1 (64-bit) / x64 | N O T S U P P O R T E D | |||||||
| petty | Mac OS X Snow Leopard (10.6.8) / x86_64 | OK | OK | OK | |||||