Back to the "Multiple platform build/check report"
| Package 14/214 | Hostname | OS | Arch | BUILD | CHECK | BUILD BIN | 
altcdfenvs1.10.0Laurent GautierLast Changed Date: 2007-04-24 11:21:48 -0700 Last Changed Rev: 24214  | lamb1 | Linux (SUSE 10.1) | x86_64 | OK | OK | |
| wellington | Linux (SUSE 9.2) | i686 | OK | OK | ||
| lemming | Windows Server 2003 (32-bit) | x64 | OK | [ OK ] | OK | 
| Package: altcdfenvs | 
| Version: 1.10.0 | 
| Command: D:\biocbld\bbs-2.0-bioc\R\bin\R.exe CMD check altcdfenvs_1.10.0.tar.gz | 
| RetCode: 0 | 
| Time: 310.5 seconds | 
| Status: OK | 
| CheckDir: altcdfenvs.Rcheck | 
| Warnings: 0 | 
* checking for working latex ... OK * using log directory 'D:/biocbld/bbs-2.0-bioc/meat/altcdfenvs.Rcheck' * using R version 2.5.1 (2007-06-27) * checking for file 'altcdfenvs/DESCRIPTION' ... OK * this is package 'altcdfenvs' version '1.10.0' * checking package dependencies ... OK * checking if this is a source package ... OK * checking whether package 'altcdfenvs' can be installed ... OK * checking package directory ... OK * checking for portable file names ... OK * checking DESCRIPTION meta-information ... OK * checking top-level files ... OK * checking index information ... OK * checking package subdirectories ... OK * checking R files for non-ASCII characters ... OK * checking R files for syntax errors ... OK * checking whether the package can be loaded ... OK * checking whether the package can be loaded with stated dependencies ... OK * checking for unstated dependencies in R code ... OK * checking S3 generic/method consistency ... OK * checking replacement functions ... OK * checking foreign function calls ... OK * checking R code for possible problems ... OK * checking Rd files ... OK * checking Rd cross-references ... OK * checking for missing documentation entries ... OK * checking for code/documentation mismatches ... OK * checking Rd \usage sections ... OK * checking data for non-ASCII characters ... OK * creating altcdfenvs-Ex.R ... OK * checking examples ... OK * checking package vignettes in 'inst/doc' ... OK * creating altcdfenvs-manual.tex ... OK * checking altcdfenvs-manual.tex ... OK
altcdfenvs.Rcheck/00install.out:
installing R.css in D:/biocbld/bbs-2.0-bioc/meat/altcdfenvs.Rcheck
---------- Making package altcdfenvs ------------
  adding build stamp to DESCRIPTION
  installing R files
  save image
Loading required package: Biobase
Loading required package: tools
Welcome to Bioconductor
  Vignettes contain introductory material. To view, type
  'openVignette()'. To cite Bioconductor, see
  'citation("Biobase")' and for packages 'citation(pkgname)'.
Loading required package: affy
Loading required package: affyio
Loading required package: matchprobes
Loading required package: makecdfenv
[1] "CdfEnvAffy"
[1] "geneNames"
[1] "["
[1] "indexProbes"
[1] "index2xy"
[1] "index2xy"
[1] "xy2index"
[1] "xy2index"
Creating a new generic function for "plot" in "altcdfenvs"
[1] "plot"
[1] "show"
  installing inst files
  installing data files
  installing man source files
  installing indices
  not zipping data
  installing help
 >>> Building/Updating help pages for package 'altcdfenvs'
     Formats: text html latex example chm 
  CdfEnvAffy-class                  text    html    latex   example chm
  appendCdfEnvAffy                  text    html    latex   example chm
  cdfenv                            text    html    latex   example chm
  cdfenvEx                          text    html    latex   example chm
  copyCdfEnvAffy                    text    html    latex           chm
  countduplicated                   text    html    latex   example chm
  geneNames                         text    html    latex           chm
  getxy.probeseq                    text    html    latex   example chm
  index2xy                          text    html    latex   example chm
  indexProbes.CdfEnvAffy            text    html    latex   example chm
  plot.CdfEnvAffy                   text    html    latex   example chm
  removeIndex                       text    html    latex   example chm
  unique.CdfEnvAffy                 text    html    latex   example chm
  utils.FASTA                       text    html    latex   example chm
  validAffyBatch                    text    html    latex   example chm
Microsoft HTML Help Compiler 4.74.8702
Compiling d:\biocbld\bbs-2.0-bioc\meat\altcdfenvs.Rcheck\00_pkg_src\altcdfenvs\chm\altcdfenvs.chm
Compile time: 0 minutes, 0 seconds
16	Topics
66	Local links
0	Internet links
1	Graphic
Created d:\biocbld\bbs-2.0-bioc\meat\altcdfenvs.Rcheck\00_pkg_src\altcdfenvs\chm\altcdfenvs.chm, 31,785 bytes
Compression decreased file by 25,110 bytes.
  adding MD5 sums
* DONE (altcdfenvs)