Back to the "Multiple platform build/check report"
| Package 20/214 | Hostname | OS | Arch | BUILD | CHECK | BUILD BIN |
aroma.light1.4.0Henrik BengtssonLast Changed Date: 2007-04-24 11:21:48 -0700 Last Changed Rev: 24214 | lamb1 | Linux (SUSE 10.1) | x86_64 | OK | OK | |
| wellington | Linux (SUSE 9.2) | i686 | OK | OK | ||
| churchill | Solaris 2.9 | sparc | OK | OK | ||
| lemming | Windows Server 2003 (32-bit) | x64 | OK | [ OK ] | OK | |
| liverpool | Windows Server 2003 R2 (32-bit) | x64 | OK | OK | OK | |
| derby | Mac OS X (10.4.9) | i686 | OK | OK |
| Package: aroma.light |
| Version: 1.4.0 |
| Command: D:\biocbld\bbs-2.0-bioc\R\bin\R.exe CMD check aroma.light_1.4.0.tar.gz |
| RetCode: 0 |
| Time: 122.4 seconds |
| Status: OK |
| CheckDir: aroma.light.Rcheck |
| Warnings: 0 |
* checking for working latex ... OK * using log directory 'D:/biocbld/bbs-2.0-bioc/meat/aroma.light.Rcheck' * using R version 2.5.0 (2007-04-23) * checking for file 'aroma.light/DESCRIPTION' ... OK * this is package 'aroma.light' version '1.4.0' * checking package dependencies ... OK * checking if this is a source package ... OK * checking whether package 'aroma.light' can be installed ... OK * checking package directory ... OK * checking for portable file names ... OK * checking DESCRIPTION meta-information ... OK * checking top-level files ... OK * checking index information ... OK * checking package subdirectories ... OK * checking R files for non-ASCII characters ... OK * checking R files for syntax errors ... OK * checking whether the package can be loaded ... OK * checking whether the package can be loaded with stated dependencies ... OK * checking whether the name space can be loaded with stated dependencies ... OK * checking for unstated dependencies in R code ... OK * checking S3 generic/method consistency ... OK * checking replacement functions ... OK * checking foreign function calls ... OK * checking R code for possible problems ... OK * checking Rd files ... OK * checking Rd cross-references ... OK * checking for missing documentation entries ... OK * checking for code/documentation mismatches ... OK * checking Rd \usage sections ... OK * creating aroma.light-Ex.R ... OK * checking examples ... OK * creating aroma.light-manual.tex ... OK * checking aroma.light-manual.tex ... OK
aroma.light.Rcheck/00install.out:
installing R.css in D:/biocbld/bbs-2.0-bioc/meat/aroma.light.Rcheck
---------- Making package aroma.light ------------
adding build stamp to DESCRIPTION
installing NAMESPACE file and metadata
installing R files
installing inst files
installing man source files
installing indices
installing help
>>> Building/Updating help pages for package 'aroma.light'
Formats: text html latex example chm
1._Calibration_and_Normalization text html latex chm
Non-documented_objects text html latex chm
aroma.light-package text html latex chm
averageQuantile.list text html latex chm
backtransformAffine.matrix text html latex example chm
calibrateMultiscan.matrix text html latex example chm
distanceBetweenLines text html latex example chm
fitIWPCA.matrix text html latex chm
iwpca.matrix text html latex example chm
likelihood.smooth.spline text html latex example chm
medianPolish.matrix text html latex example chm
normalizeAffine.matrix text html latex example chm
normalizeCurveFit.matrix text html latex example chm
normalizeQuantile.list text html latex example chm
normalizeQuantile.matrix text html latex example chm
normalizeQuantile.numeric text html latex chm
plotDensity.list text html latex chm
plotMvsA.matrix text html latex chm
plotMvsAPairs.matrix text html latex chm
plotMvsMPairs.matrix text html latex chm
print.SmoothSplineLikelihood text html latex chm
robustSmoothSpline text html latex example chm
sampleCorrelations.matrix text html latex example chm
sampleTuples text html latex example chm
weightedMedian text html latex example chm
wpca.matrix text html latex example chm
Microsoft HTML Help Compiler 4.74.8702
Compiling d:\biocbld\bbs-2.0-bioc\meat\aroma.light.Rcheck\00_pkg_src\aroma.light\chm\aroma.light.chm
Compile time: 0 minutes, 0 seconds
27 Topics
96 Local links
32 Internet links
1 Graphic
Created d:\biocbld\bbs-2.0-bioc\meat\aroma.light.Rcheck\00_pkg_src\aroma.light\chm\aroma.light.chm, 83,872 bytes
Compression decreased file by 98,227 bytes.
preparing package aroma.light for lazy loading
Loading required package: R.oo
adding MD5 sums
* DONE (aroma.light)