Back to the "Multiple platform build/check report"
| Package 103/214 | Hostname | OS | Arch | BUILD | CHECK | BUILD BIN |
KEGGSOAP1.10.0J. ZhangLast Changed Date: 2007-04-24 11:21:48 -0700 Last Changed Rev: 24214 | lamb1 | Linux (SUSE 10.1) | x86_64 | OK | OK | |
| wellington | Linux (SUSE 9.2) | i686 | OK | OK | ||
| churchill | Solaris 2.9 | sparc | OK | ERROR | ||
| lemming | Windows Server 2003 (32-bit) | x64 | OK | [ OK ] | OK | |
| liverpool | Windows Server 2003 R2 (32-bit) | x64 | OK | OK | OK | |
| derby | Mac OS X (10.4.9) | i686 | OK | OK |
| Package: KEGGSOAP |
| Version: 1.10.0 |
| Command: D:\biocbld\bbs-2.0-bioc\R\bin\R.exe CMD check KEGGSOAP_1.10.0.tar.gz |
| RetCode: 0 |
| Time: 118.5 seconds |
| Status: OK |
| CheckDir: KEGGSOAP.Rcheck |
| Warnings: 0 |
* checking for working latex ... OK * using log directory 'D:/biocbld/bbs-2.0-bioc/meat/KEGGSOAP.Rcheck' * using R version 2.5.0 (2007-04-23) * checking for file 'KEGGSOAP/DESCRIPTION' ... OK * this is package 'KEGGSOAP' version '1.10.0' * checking package dependencies ... OK * checking if this is a source package ... OK * checking whether package 'KEGGSOAP' can be installed ... OK * checking package directory ... OK * checking for portable file names ... OK * checking DESCRIPTION meta-information ... OK * checking top-level files ... OK * checking index information ... OK * checking package subdirectories ... OK * checking R files for non-ASCII characters ... OK * checking R files for syntax errors ... OK * checking whether the package can be loaded ... OK * checking whether the package can be loaded with stated dependencies ... OK * checking whether the name space can be loaded with stated dependencies ... OK * checking for unstated dependencies in R code ... OK * checking S3 generic/method consistency ... OK * checking replacement functions ... OK * checking foreign function calls ... OK * checking R code for possible problems ... OK * checking Rd files ... OK * checking Rd cross-references ... OK * checking for missing documentation entries ... OK * checking for code/documentation mismatches ... OK * checking Rd \usage sections ... OK * creating KEGGSOAP-Ex.R ... OK * checking examples ... OK * creating KEGGSOAP-manual.tex ... OK * checking KEGGSOAP-manual.tex ... OK
KEGGSOAP.Rcheck/00install.out:
installing R.css in D:/biocbld/bbs-2.0-bioc/meat/KEGGSOAP.Rcheck
---------- Making package KEGGSOAP ------------
adding build stamp to DESCRIPTION
installing NAMESPACE file and metadata
installing R files
installing man source files
installing indices
installing help
>>> Building/Updating help pages for package 'KEGGSOAP'
Formats: text html latex example chm
KEGGserver text html latex chm
bget text html latex example chm
get.genes.by.motifs text html latex example chm
get.genes.by.organism text html latex example chm
get.genes.by.pathway text html latex example chm
get.motifs.by.gene text html latex example chm
get.paralogs.by.gene text html latex example chm
get.pathways.by.genes text html latex example chm
getBestNeighbors text html latex example chm
list.organisms text html latex example chm
mark.pathway.by.objects text html latex example chm
search.compounds.by.name text html latex example chm
search.glycans.by.name text html latex example chm
Microsoft HTML Help Compiler 4.74.8702
Compiling d:\biocbld\bbs-2.0-bioc\meat\KEGGSOAP.Rcheck\00_pkg_src\KEGGSOAP\chm\KEGGSOAP.chm
Compile time: 0 minutes, 0 seconds
14 Topics
64 Local links
15 Internet links
1 Graphic
Created d:\biocbld\bbs-2.0-bioc\meat\KEGGSOAP.Rcheck\00_pkg_src\KEGGSOAP\chm\KEGGSOAP.chm, 35,269 bytes
Compression decreased file by 31,284 bytes.
preparing package KEGGSOAP for lazy loading
Loading required package: XML
Loading required package: SSOAP
Loading required package: RCurl
adding MD5 sums
* DONE (KEGGSOAP)