Back to the "Multiple platform build/check report"
| Package 11/208 | OS | Arch | BUILD | CHECK | BUILD BIN | 
| affyPLM1.11.10Ben Bolstad | Linux (SUSE 9.2) | x86_64 | ERROR | skipped | |
| Linux (SUSE 10.1) | x86_64 | ERROR | skipped | ||
| Linux (SUSE 9.2) | i686 | ERROR | skipped | ||
| Solaris 2.9 | sparc | ERROR | skipped | ||
| Windows Server 2003 | x86_64 | ERROR | skipped | skipped | |
| Windows Server 2003 | NA | ERROR | skipped | skipped | |
| Mac OS X (10.4.6) | i686 | ERROR | skipped | 
| "http://www.w3.org/TR/xhtml1/DTD/xhtml1-strict.dtd"> | 
| Object not found! | 
| 
 | 
| The requested URL was not found on this server. | 
| If you entered the URL manually please check your | 
| spelling and try again. | 
| 
 | 
| If you think this is a server error, please contact | 
| the webmaster. | 
| Error 404 | 
| gopher5 | 
| Tue Dec 12 11:48:16 2006 | 
| Apache/2.0.50 (Linux/SUSE) |