Back to the "Multiple platform build/check report"
Version Built
ABarray 1.3.0 2.5.0
acepack 1.3-2.2 2.5.0
aCGH 1.9.0 2.5.0
ade4 1.4-2 2.5.0
adSplit 1.5.0 2.5.0
affxparser 1.7.2 2.5.0
affy 1.13.12 2.5.0
affycomp 1.11.0 2.5.0
affydata 1.11.1 2.5.0
affyio 1.3.1 2.5.0
affylmGUI 1.9.0 2.5.0
affypdnn 1.9.2 2.5.0
affyPLM 1.11.10 2.5.0
affyQCReport 1.13.14 2.5.0
akima 0.5-1 2.5.0
ALL 1.4.1 2.5.0
altcdfenvs 1.9.0 2.5.0
amap 0.7-1 2.5.0
AnnBuilder 1.13.9 2.5.0
annotate 1.13.3 2.5.0
AnnotationDbi 0.0.8 2.5.0
apComplex 2.0.0 2.5.0
ape 1.9 2.5.0
aroma.light 1.3.0 2.5.0
arrayMagic 1.13.0 2.5.0
arrayQuality 1.11.0 2.5.0
base 2.5.0 2.5.0
beadarray 1.3.0 2.5.0
beadarraySNP 1.1.8 2.5.0
BeadExplorer 1.1.3 2.5.0
bim 1.7.0 2.5.0
Biobase 1.13.28 2.5.0
biocViews 1.3.8 2.5.0
bioDist 1.7.1 2.5.0
BioMVCClass 1.3.0 2.5.0
Biostrings 2.3.4 2.5.0
boot 1.2-27 2.5.0
bridge 1.7.0 2.5.0
BSgenome 1.3.7 2.5.0
BSgenome.Celegans.UCSC.ce2 1.1.1 2.5.0
car 1.1-2 2.5.0
Category 2.1.8 2.5.0
cghMCR 1.5.0 2.5.0
ChromoViz 1.7.0 2.5.0
chron 2.3-9 2.5.0
class 7.2-30 2.5.0
cluster 1.11.3 2.5.0
clusterStab 1.7.1 2.5.0
cMAP 1.15.1 2.5.0
CoCiteStats 1.7.0 2.5.0
coda 0.10-7 2.5.0
codelink 1.3.1 2.5.0
codetools 0.0-3 2.5.0
colonCA 1.4.0 2.5.0
colorspace 0.95 2.5.0
combinat 0.0-6 2.5.0
convert 1.9.1 2.5.0
copa 1.3.1 2.5.0
corpcor 1.4.4 2.5.0
cosmo 1.0.4 2.5.0
ctc 1.9.0 2.5.0
DAAG 0.90 2.5.0
daMA 1.7.0 2.5.0
datasets 2.5.0 2.5.0
DBI 0.1-11 2.5.0
DEDS 1.7.0 2.5.0
deldir 0.0-5 2.5.0
Design 2.0-12 2.5.0
diffGeneAnalysis 1.17.0 2.5.0
digest 0.2.2 2.5.0
DNAcopy 1.9.1 2.5.0
DynDoc 1.13.1 2.5.0
dynlm 0.1-2 2.5.0
e1071 1.5-16 2.5.0
EBarrays 1.7.0 2.5.0
Ecdat 0.1-5 2.5.0
ecolicdf 1.15.0 2.5.0
ecoliLeucine 1.2.0 2.5.0
ecolitk 1.7.1 2.5.0
edd 1.13.1 2.5.0
ellipse 0.3-4 2.5.0
EMV 1.3.1 2.5.0
exprExternal 1.5.0 2.5.0
externalVector 1.5.1 2.5.0
faahKO 1.2.0 2.5.0
factDesign 1.9.0 2.5.0
fCalendar 240.10068 2.5.0
fdrame 1.7.0 2.5.0
fdrtool 1.0.0 2.5.0
fEcofin 240.10067 2.5.0
fibroEset 1.4.1 2.5.0
fields 3.04 2.5.0
flowCore 0.3.00 2.5.0
foreign 0.8-18 2.5.0
gaggle 1.3.0 2.5.0
gam 0.97 2.5.0
gbm 1.5-7 2.5.0
gcrma 2.7.1 2.5.0
gdata 2.3.1 2.5.0
gee 4.13-11 2.5.0
genArise 1.11.0 2.5.0
GeneCycle 1.0.1 2.5.0
genefilter 1.13.7 2.5.0
GeneMeta 1.7.1 2.5.0
GeneNet 1.0.1 2.5.0
geneplotter 1.13.5 2.5.0
GeneR 2.5.0 2.5.0
geneRecommender 1.7.0 2.5.0
GeneSpring 2.7.0 2.5.0
GeneTS 2.13.0 2.5.0
GEOquery 1.9.0 2.5.0
gff3Plotter 1.9.0 2.5.0
GGtools 1.3.9 2.5.0
GLAD 1.9.0 2.5.0
GlobalAncova 2.5.1 2.5.0
globaltest 4.5.1 2.5.0
GO 1.15.1 2.5.0
GOdb 1.12.1 2.5.0
golubEsets 1.4.2 2.5.0
GOstats 2.1.7 2.5.0
goTools 1.7.0 2.5.0
gpclib 1.3-3 2.5.0
gpls 1.7.0 2.5.0
graph 1.13.2 2.5.0
GraphAT 1.7.0 2.5.0
graphics 2.5.0 2.5.0
grDevices 2.5.0 2.5.0
grid 2.5.0 2.5.0
gridBase 0.4-3 2.5.0
gtkWidgets 0.11.0 2.5.0
gtools 2.3.0 2.5.0
Harshlight 1.3.0 2.5.0
Heatplus 1.5.0 2.5.0
HEM 1.7.0 2.5.0
hexbin 1.9.0 2.5.0
hgfocus 1.15.0 2.5.0
hgfocuscdf 1.15.0 2.5.0
hgu133a 1.15.0 2.5.0
hgu133acdf 1.15.0 2.5.0
hgu133aprobe 1.15.0 2.5.0
hgu95acdf 1.15.0 2.5.0
hgu95av2 1.15.0 2.5.0
hgu95av2cdf 1.15.0 2.5.0
hgu95av2db 1.12.0 2.5.0
hgu95av2probe 1.15.0 2.5.0
Hmisc 3.1-2 2.5.0
hopach 1.9.1 2.5.0
hsahomology 1.15.2 2.5.0
hu6800 1.15.0 2.5.0
hu6800cdf 1.15.0 2.5.0
hu6800probe 1.15.0 2.5.0
humanLLMappings 1.15.2 2.5.0
hypergraph 1.7.1 2.5.0
Icens 1.7.0 2.5.0
idiogram 1.9.2 2.5.0
impute 1.7.0 2.5.0
ipred 0.8-3 2.5.0
its 1.1.4 2.5.0
Iyer517 1.4.1 2.5.0
KEGG 1.15.1 2.5.0
KernSmooth 2.22-19 2.5.0
lapmix 1.1.0 2.5.0
lattice 0.14-16 2.5.0
leaps 2.7 2.5.0
limma 2.9.5 2.5.0
limmaGUI 1.11.0 2.5.0
LMGene 1.5.0 2.5.0
lmtest 0.9-18 2.5.0
locfdr 1.1-2 2.5.0
locfit 1.5-3 2.5.0
lodplot 1.0 2.5.0
logicFS 1.5.0 2.5.0
LogicReg 1.4.3 2.5.0
longitudinal 1.1.3 2.5.0
LPE 1.9.0 2.5.0
LPEP 0.0.4 2.5.0
maanova 1.5.0 2.5.0
macat 1.9.1 2.5.0
maCorrPlot 1.5.0 2.5.0
maDB 1.7.3 2.5.0
made4 1.9.0 2.5.0
makecdfenv 1.13.2 2.5.0
makePlatformDesign 0.99.20 2.5.0
MANOR 1.7.0 2.5.0
MantelCorr 1.5.0 2.5.0
mapproj 1.1-7.1 2.5.0
maps 2.0-32 2.5.0
maptools 0.6-3 2.5.0
marray 1.13.0 2.5.0
maSigPro 1.7.0 2.5.0
MASS 7.2-30 2.5.0
matchprobes 1.7.3 2.5.0
mclust 3.0-0 2.5.0
MCMCpack 0.7-4 2.5.0
MCRestimate 1.9.1 2.5.0
mda 0.3-2 2.5.0
MeasurementError.cor 1.7.0 2.5.0
MergeMaid 2.7.0 2.5.0
metaArray 1.7.1 2.5.0
methods 2.5.0 2.5.0
Mfuzz 1.3.0 2.5.0
mgcv 1.3-22 2.5.0
minpack.lm 1.0-5 2.5.0
MiPP 1.7.0 2.5.0
mlbench 1.1-2 2.5.0
MLInterfaces 1.9.0 2.5.0
mmgmos 1.7.0 2.5.0
multtest 1.13.0 2.5.0
MVCClass 1.9.0 2.5.0
mvtnorm 0.7-5 2.5.0
nem 1.3.0 2.5.0
nlme 3.1-77 2.5.0
nnet 7.2-30 2.5.0
nnNorm 1.11.0 2.5.0
nudge 1.5.0 2.5.0
occugene 0.1.0 2.5.0
OCplus 1.9.0 2.5.0
odesolve 0.5-16 2.5.0
oligo 0.99.29 2.5.0
OLIN 1.11.0 2.5.0
OLINgui 1.9.0 2.5.0
ontoTools 1.11.0 2.5.0
OrderedList 1.7.2 2.5.0
oz 1.0-14 2.5.0
pairseqsim 1.9.1 2.5.0
pamr 1.33.0 2.5.0
panp 1.5.0 2.5.0
PBSmapping 2.09 2.5.0
pcaMethods 1.3.3 2.5.0
pcot2 1.3.0 2.5.0
pdmclass 1.7.0 2.5.0
pickgene 1.7.0 2.5.0
pixmap 0.4-5 2.5.0
pkgDepTools 1.1.1 2.5.0
plasmodiumanophelescdf 1.15.0 2.5.0
plgem 1.7.0 2.5.0
plier 1.5.0 2.5.0
pls 1.2-1 2.5.0
ppiStats 1.1.1 2.5.0
PROcess 1.11.0 2.5.0
qcc 1.1 2.5.0
qtl 1.05-2 2.5.0
quadprog 1.4-10 2.5.0
quantreg 4.02 2.5.0
quantsmooth 1.1.2 2.5.0
qvalue 1.9.0 2.5.0
R.oo 1.2.3 2.5.0
R.utils 0.8.0 2.5.0
R2HTML 1.58 2.5.0
rae230a 1.15.0 2.5.0
rae230aprobe 1.15.0 2.5.0
rama 1.7.0 2.5.0
randomForest 4.5-16 2.5.0
RankProd 2.7.0 2.5.0
RArcInfo 0.4-7 2.5.0
RbcBook1 1.3.0 2.5.0
RBGL 1.11.1 2.5.0
RColorBrewer 0.2-3 2.5.0
Rdbi 1.9.0 2.5.0
reb 1.7.1 2.5.0
RefPlus 1.2.0 2.5.0
Resourcerer 1.9.0 2.5.0
rfcdmin 1.6.0 2.5.0
rgl 0.68 2.5.0
rJava 0.4-12 2.5.0
RLMM 0.11.0 2.5.0
RMAPPER 1.5.0 2.5.0
ROC 1.9.0 2.5.0
rpart 3.1-33 2.5.0
rrcov 0.3-04 2.5.0
Rredland 1.3.0 2.5.0
RSNPper 1.9.0 2.5.0
RSQLite 0.4-13 2.5.0
RSvgDevice 0.6.1 2.5.0
Ruuid 1.13.0 2.5.0
safe 1.7.0 2.5.0
SAGElyzer 1.13.0 2.5.0
sagenhaft 1.7.1 2.5.0
SAGx 1.9.7 2.5.0
sandwich 2.0-1 2.5.0
SBMLR 1.29.0 2.5.0
scatterplot3d 0.3-24 2.5.0
sem 0.9-6 2.5.0
SemSim 1.1.2 2.5.0
sgeostat 1.0-20 2.5.0
siggenes 1.9.4 2.5.0
sigPathway 1.3.0 2.5.0
simpleaffy 2.9.1 2.5.0
simulatorAPMS 1.7.0 2.5.0
sizepower 1.5.0 2.5.0
sm 2.1-0 2.5.0
sma 0.5.15 2.5.0
snapCGH 1.3.1 2.5.0
snow 0.2-2 2.5.0
SNPchip 0.1.44 2.5.0
som 0.3-4 2.5.0
sp 0.9-4 2.5.0
SparseM 0.71 2.5.0
spatial 7.2-30 2.5.0
spatstat 1.10-3 2.5.0
spdep 0.3-32 2.5.0
spikeLI 1.3.0 2.5.0
splancs 2.01-19 2.5.0
splicegear 1.7.0 2.5.0
splines 2.5.0 2.5.0
splots 1.1.0 2.5.0
spotSegmentation 1.7.0 2.5.0
sscore 1.7.0 2.5.0
ssize 1.7.0 2.5.0
statmod 1.2.4 2.5.0
stats 2.5.0 2.5.0
stats4 2.5.0 2.5.0
stepNorm 1.7.0 2.5.0
stjudem 1.2.0 2.5.0
strucchange 1.3-1 2.5.0
survival 2.30 2.5.0
systemfit 0.8-0 2.5.0
tcltk 2.5.0 2.5.0
TeachingDemos 1.4 2.5.0
tilingArray 1.13.3 2.5.0
timecourse 1.7.0 2.5.0
tkrplot 0.0-16 2.5.0
tkWidgets 1.13.1 2.5.0
tools 2.5.0 2.5.0
tripack 1.2-10 2.5.0
tseries 0.10-7 2.5.0
tweedie 1.2 2.5.0
twilight 1.11.1 2.5.0
TypeInfo 1.1.1 2.5.0
utils 2.5.0 2.5.0
vsn 1.13.1 2.5.0
weaver 1.1.1 2.5.0
widgetTools 1.11.0 2.5.0
xcms 1.7.0 2.5.0
xlahomology 1.15.2 2.5.0
XML 1.2-0 2.4.0
xtable 1.4-2 2.5.0
YEAST 1.15.2 2.5.0
zoo 1.2-1 2.5.0