Back to the "Multiple platform build/check report"
| Package 188/188 | Hostname | OS | Arch | BUILD | CHECK | BUILD BIN | 
xcms1.6.1Colin A. SmithLast Changed Date: 2006-12-05 17:50:27 -0800 Last Changed Rev: 21356  | lamb1 | Linux (SUSE 10.1) | x86_64 | OK | OK | |
| wellington | Linux (SUSE 9.2) | i686 | OK | OK | ||
| churchill | Solaris 2.9 | sparc | ERROR | skipped | ||
| lemming | Windows Server 2003 | x86_64 | OK | OK | OK | 
| "http://www.w3.org/TR/xhtml1/DTD/xhtml1-strict.dtd"> | 
Object not found! | 
  | 
| The requested URL was not found on this server. | 
| If you entered the URL manually please check your | 
| spelling and try again. | 
  | 
| If you think this is a server error, please contact | 
| the webmaster. | 
Error 404 | 
|   lamb1 | 
|   Tue Feb 27 22:54:39 2007 | 
| Apache/2.2.0 (Linux/SUSE) |