Back to Multiple platform build/check report
| Package: widgetInvoke |
| Version: 1.4.0 |
| Command: /home/biocbuild/arch/i686/R-2.3.0/bin/R CMD build widgetInvoke |
| RetCode: 0 |
| Time: 14.8 seconds |
| Status: OK |
| PackageFile: widgetInvoke_1.4.0.tar.gz |
* checking for file 'widgetInvoke/DESCRIPTION' ... OK
* preparing 'widgetInvoke':
* checking DESCRIPTION meta-information ... OK
* installing the package to re-build vignettes
* Installing *source* package 'widgetInvoke' ...
** R
** inst
** save image
Loading required package: XML
Loading required package: RGtk
** help
>>> Building/Updating help pages for package 'widgetInvoke'
Formats: text html latex example
SimpleW-class text html latex example
createWF text html latex example
fun2wFun text html latex example
funArg-class text html latex example
testWIfun text html latex example
wFun-class text html latex example
widgetInvoke text html latex example
writeWIxml text html latex example
** building package indices ...
* DONE (widgetInvoke)
* creating vignettes ... OK
* removing junk files
* checking for LF line-endings in source files
* checking for empty or unneeded directories
* building 'widgetInvoke_1.4.0.tar.gz'