Back to Multiple platform build/check report
| Package: cellHTS | 
| Version: 1.2.0 | 
| Command: /home/biocbuild/arch/i686/R-2.3.0/bin/R CMD build cellHTS | 
| RetCode: 0 | 
| Time: 5.8 seconds | 
| Status: OK | 
| PackageFile: cellHTS_1.2.0.tar.gz | 
* checking for file 'cellHTS/DESCRIPTION' ... OK * preparing 'cellHTS': * checking DESCRIPTION meta-information ... OK * removing junk files * checking for LF line-endings in source files * checking for empty or unneeded directories * building 'cellHTS_1.2.0.tar.gz'