Back to Multiple platform build/check report
| Package: affxparser |
| Version: 1.4.0 |
| Command: /home/biocbuild/arch/i686/R-2.3.0/bin/R CMD build affxparser |
| RetCode: 0 |
| Time: 1.8 seconds |
| Status: OK |
| PackageFile: affxparser_1.4.0.tar.gz |
* checking for file 'affxparser/DESCRIPTION' ... OK * preparing 'affxparser': * checking DESCRIPTION meta-information ... OK * cleaning src * removing junk files * checking for LF line-endings in source files * checking for empty or unneeded directories * building 'affxparser_1.4.0.tar.gz'