Back to Multiple platform build/check report
| Package: ssize |
| Version: 1.4.0 |
| Command: D:\biocbld\R-2.3.0\bin\R.exe CMD build ssize |
| RetCode: 0 |
| Time: 37.5 seconds |
| Status: OK |
| PackageFile: ssize_1.4.0.tar.gz |
* checking for file 'ssize/DESCRIPTION' ... OK
* preparing 'ssize':
* checking DESCRIPTION meta-information ... OK
* installing the package to re-build vignettes
installing R.css in D:/biocbld/work-area/1.8d/tmpdir/Rinst549673901
---------- Making package ssize ------------
adding build stamp to DESCRIPTION
installing R files
installing inst files
installing data files
installing man source files
installing indices
not zipping data
installing help
>>> Building/Updating help pages for package 'ssize'
Formats: text html latex example chm
exp.sd text html latex example chm
pow text html latex example chm
Microsoft HTML Help Compiler 4.74.8702
Compiling d:\biocbld\work-area\1.8d\madman\Rpacks\ssize\chm\ssize.chm
Compile time: 0 minutes, 0 seconds
3 Topics
11 Local links
1 Internet link
1 Graphic
Created d:\biocbld\work-area\1.8d\madman\Rpacks\ssize\chm\ssize.chm, 20,971 bytes
Compression increased file by 5,517 bytes.
adding MD5 sums
* DONE (ssize)
* creating vignettes ... OK
* removing junk files
* checking for LF line-endings in source files
* checking for empty or unneeded directories
* building 'ssize_1.4.0.tar.gz'