Back to Multiple platform build/check report
| Package: sagenhaft | 
| Version: 1.4.0 | 
| Command: D:\biocbld\R-2.3.0\bin\R.exe CMD INSTALL --build sagenhaft_1.4.0.tar.gz | 
| RetCode: 0 | 
| Time: 14.5 seconds | 
| Status: OK | 
| PackageFile: sagenhaft_1.4.0.zip | 
Using auto-selected zip options 'sagenhaft-ZIPDATA=zip'
---------- Making package sagenhaft ------------
  adding build stamp to DESCRIPTION
  installing R files
  installing inst files
  installing data files
  installing man source files
  installing indices
  zipping data
  installing help
 >>> Building/Updating help pages for package 'sagenhaft'
     Formats: text html latex example chm 
  error.correction                  text    html    latex   example chm
  extract.lib                       text    html    latex   example chm
  sage.library                      text    html    latex   example chm
  sage.library.comparison           text    html    latex   example chm
  sage.test                         text    html    latex   example chm
  sage.utilities                    text    html    latex   example chm
  sagelibrary.simulate              text    html    latex   example chm
Microsoft HTML Help Compiler 4.74.8702
Compiling d:\biocbld\work-area\1.8d\madman\Rpacks\R.INSTALL\sagenhaft\chm\sagenhaft.chm
Compile time: 0 minutes, 0 seconds
8	Topics
42	Local links
5	Internet links
1	Graphic
Created d:\biocbld\work-area\1.8d\madman\Rpacks\R.INSTALL\sagenhaft\chm\sagenhaft.chm, 27,779 bytes
Compression decreased file by 11,435 bytes.
  preparing package sagenhaft for lazy loading
  adding MD5 sums
packaged installation of package 'sagenhaft' as sagenhaft_1.4.0.zip
* DONE (sagenhaft)