Back to Multiple platform build/check report
| Package: pickgene |
| Version: 1.4.0 |
| Command: D:\biocbld\R-2.3.0\bin\R.exe CMD build pickgene |
| RetCode: 0 |
| Time: 16.5 seconds |
| Status: OK |
| PackageFile: pickgene_1.4.0.tar.gz |
* checking for file 'pickgene/DESCRIPTION' ... OK
* preparing 'pickgene':
* checking DESCRIPTION meta-information ... OK
* checking whether 'INDEX' is up-to-date ... NO
* use '--force' to overwrite the existing 'INDEX'
* installing the package to re-build vignettes
installing R.css in D:/biocbld/work-area/1.8d/tmpdir/Rinst363246237
---------- Making package pickgene ------------
adding build stamp to DESCRIPTION
installing R files
installing inst files
installing man source files
installing indices
installing help
>>> Building/Updating help pages for package 'pickgene'
Formats: text html latex example chm
Simulation.pickgene text html latex example chm
em.ggb text html latex example chm
model.pickgene text html latex example chm
oddsplot text html latex example chm
pickgene-internal text html latex chm
pickgene text html latex example chm
robustscale text html latex example chm
Microsoft HTML Help Compiler 4.74.8702
Compiling d:\biocbld\work-area\1.8d\madman\Rpacks\pickgene\chm\pickgene.chm
Compile time: 0 minutes, 0 seconds
8 Topics
16 Local links
0 Internet links
1 Graphic
Created d:\biocbld\work-area\1.8d\madman\Rpacks\pickgene\chm\pickgene.chm, 30,513 bytes
Compression decreased file by 11,136 bytes.
preparing package pickgene for lazy loading
adding MD5 sums
* DONE (pickgene)
* creating vignettes ... OK
* removing junk files
* checking for LF line-endings in source files
* checking for empty or unneeded directories
* building 'pickgene_1.4.0.tar.gz'