Back to Multiple platform build/check report
| Package: convert | 
| Version: 1.6.0 | 
| Command: D:\biocbld\R-2.3.0\bin\R.exe CMD build convert | 
| RetCode: 0 | 
| Time: 10.5 seconds | 
| Status: OK | 
| PackageFile: convert_1.6.0.tar.gz | 
* checking for file 'convert/DESCRIPTION' ... OK
* preparing 'convert':
* checking DESCRIPTION meta-information ... OK
* installing the package to re-build vignettes
installing R.css in D:/biocbld/work-area/1.8d/tmpdir/Rinst570004742
---------- Making package convert ------------
  adding build stamp to DESCRIPTION
  installing R files
  installing inst files
  installing man source files
  installing indices
  installing help
 >>> Building/Updating help pages for package 'convert'
     Formats: text html latex example chm 
  coerce                            text    html    latex   example chm
Microsoft HTML Help Compiler 4.74.8702
Compiling d:\biocbld\work-area\1.8d\madman\Rpacks\convert\chm\convert.chm
Compile time: 0 minutes, 0 seconds
2	Topics
9	Local links
0	Internet links
1	Graphic
Created d:\biocbld\work-area\1.8d\madman\Rpacks\convert\chm\convert.chm, 16,985 bytes
Compression increased file by 5,908 bytes.
  adding MD5 sums
* DONE (convert)
* creating vignettes ... OK
* removing junk files
* checking for LF line-endings in source files
* checking for empty or unneeded directories
* building 'convert_1.6.0.tar.gz'